BEGIN:VCALENDAR
VERSION:2.0
PRODID:-//Baudette Chamber of Commerce - ECPv6.15.18//NONSGML v1.0//EN
CALSCALE:GREGORIAN
METHOD:PUBLISH
X-WR-CALNAME:Baudette Chamber of Commerce
X-ORIGINAL-URL:https://baudettelakeofthewoodschamber.com
X-WR-CALDESC:Events for Baudette Chamber of Commerce
REFRESH-INTERVAL;VALUE=DURATION:PT1H
X-Robots-Tag:noindex
X-PUBLISHED-TTL:PT1H
BEGIN:VTIMEZONE
TZID:America/New_York
BEGIN:DAYLIGHT
TZOFFSETFROM:-0500
TZOFFSETTO:-0400
TZNAME:EDT
DTSTART:20240310T070000
END:DAYLIGHT
BEGIN:STANDARD
TZOFFSETFROM:-0400
TZOFFSETTO:-0500
TZNAME:EST
DTSTART:20241103T060000
END:STANDARD
BEGIN:DAYLIGHT
TZOFFSETFROM:-0500
TZOFFSETTO:-0400
TZNAME:EDT
DTSTART:20250309T070000
END:DAYLIGHT
BEGIN:STANDARD
TZOFFSETFROM:-0400
TZOFFSETTO:-0500
TZNAME:EST
DTSTART:20251102T060000
END:STANDARD
BEGIN:DAYLIGHT
TZOFFSETFROM:-0500
TZOFFSETTO:-0400
TZNAME:EDT
DTSTART:20260308T070000
END:DAYLIGHT
BEGIN:STANDARD
TZOFFSETFROM:-0400
TZOFFSETTO:-0500
TZNAME:EST
DTSTART:20261101T060000
END:STANDARD
BEGIN:DAYLIGHT
TZOFFSETFROM:-0500
TZOFFSETTO:-0400
TZNAME:EDT
DTSTART:20270314T070000
END:DAYLIGHT
BEGIN:STANDARD
TZOFFSETFROM:-0400
TZOFFSETTO:-0500
TZNAME:EST
DTSTART:20271107T060000
END:STANDARD
END:VTIMEZONE
BEGIN:VEVENT
DTSTART;TZID=America/New_York:20260109T173000
DTEND;TZID=America/New_York:20260109T190000
DTSTAMP:20260421T093641
CREATED:20230207T151207Z
LAST-MODIFIED:20230207T151207Z
UID:5295-1767979800-1767985200@baudettelakeofthewoodschamber.com
SUMMARY:American Legion Meat Raffle
DESCRIPTION:
URL:https://baudettelakeofthewoodschamber.com/event/american-legion-meat-raffle-2-2026-01-09/
LOCATION:MN
CATEGORIES:Community,Entertainment,Fundraiser
END:VEVENT
BEGIN:VEVENT
DTSTART;TZID=America/New_York:20260103T180000
DTEND;TZID=America/New_York:20260103T200000
DTSTAMP:20260421T093641
CREATED:20230207T151256Z
LAST-MODIFIED:20230207T151256Z
UID:5294-1767463200-1767470400@baudettelakeofthewoodschamber.com
SUMMARY:Moose Lodge Meat Raffle
DESCRIPTION:
URL:https://baudettelakeofthewoodschamber.com/event/moose-lodge-meat-raffle-2-2026-01-03/
LOCATION:MN
CATEGORIES:Community,Entertainment,Fundraiser
END:VEVENT
BEGIN:VEVENT
DTSTART;TZID=America/New_York:20260102T173000
DTEND;TZID=America/New_York:20260102T190000
DTSTAMP:20260421T093641
CREATED:20230207T151207Z
LAST-MODIFIED:20230207T151207Z
UID:5293-1767375000-1767380400@baudettelakeofthewoodschamber.com
SUMMARY:American Legion Meat Raffle
DESCRIPTION:
URL:https://baudettelakeofthewoodschamber.com/event/american-legion-meat-raffle-2-2026-01-02/
LOCATION:MN
CATEGORIES:Community,Entertainment,Fundraiser
END:VEVENT
BEGIN:VEVENT
DTSTART;TZID=America/New_York:20260101T170000
DTEND;TZID=America/New_York:20260101T190000
DTSTAMP:20260421T093641
CREATED:20221229T184558Z
LAST-MODIFIED:20221229T184558Z
UID:5292-1767286800-1767294000@baudettelakeofthewoodschamber.com
SUMMARY:Ruby's Pantry Distribution
DESCRIPTION:$25 a share\, no income requirement! \n  \nLake of the Woods School Bus Garage
URL:https://baudettelakeofthewoodschamber.com/event/rubys-pantry-distribution-2-2026-01-01/
LOCATION:Lake of the Woods School\, 210 3rd Ave NE\, Baudette\, MN\, 56623\, United States
CATEGORIES:Community
END:VEVENT
BEGIN:VEVENT
DTSTART;TZID=America/New_York:20251227T180000
DTEND;TZID=America/New_York:20251227T200000
DTSTAMP:20260421T093641
CREATED:20230207T151256Z
LAST-MODIFIED:20230207T151256Z
UID:5291-1766858400-1766865600@baudettelakeofthewoodschamber.com
SUMMARY:Moose Lodge Meat Raffle
DESCRIPTION:
URL:https://baudettelakeofthewoodschamber.com/event/moose-lodge-meat-raffle-2-2025-12-27/
LOCATION:MN
CATEGORIES:Community,Entertainment,Fundraiser
END:VEVENT
BEGIN:VEVENT
DTSTART;TZID=America/New_York:20251226T173000
DTEND;TZID=America/New_York:20251226T190000
DTSTAMP:20260421T093641
CREATED:20230207T151207Z
LAST-MODIFIED:20230207T151207Z
UID:5290-1766770200-1766775600@baudettelakeofthewoodschamber.com
SUMMARY:American Legion Meat Raffle
DESCRIPTION:
URL:https://baudettelakeofthewoodschamber.com/event/american-legion-meat-raffle-2-2025-12-26/
LOCATION:MN
CATEGORIES:Community,Entertainment,Fundraiser
END:VEVENT
BEGIN:VEVENT
DTSTART;TZID=America/New_York:20251220T180000
DTEND;TZID=America/New_York:20251220T200000
DTSTAMP:20260421T093641
CREATED:20230207T151256Z
LAST-MODIFIED:20230207T151256Z
UID:5289-1766253600-1766260800@baudettelakeofthewoodschamber.com
SUMMARY:Moose Lodge Meat Raffle
DESCRIPTION:
URL:https://baudettelakeofthewoodschamber.com/event/moose-lodge-meat-raffle-2-2025-12-20/
LOCATION:MN
CATEGORIES:Community,Entertainment,Fundraiser
END:VEVENT
BEGIN:VEVENT
DTSTART;TZID=America/New_York:20251219T173000
DTEND;TZID=America/New_York:20251219T190000
DTSTAMP:20260421T093641
CREATED:20230207T151207Z
LAST-MODIFIED:20230207T151207Z
UID:5288-1766165400-1766170800@baudettelakeofthewoodschamber.com
SUMMARY:American Legion Meat Raffle
DESCRIPTION:
URL:https://baudettelakeofthewoodschamber.com/event/american-legion-meat-raffle-2-2025-12-19/
LOCATION:MN
CATEGORIES:Community,Entertainment,Fundraiser
END:VEVENT
BEGIN:VEVENT
DTSTART;TZID=America/New_York:20251213T180000
DTEND;TZID=America/New_York:20251213T200000
DTSTAMP:20260421T093641
CREATED:20230207T151256Z
LAST-MODIFIED:20230207T151256Z
UID:5287-1765648800-1765656000@baudettelakeofthewoodschamber.com
SUMMARY:Moose Lodge Meat Raffle
DESCRIPTION:
URL:https://baudettelakeofthewoodschamber.com/event/moose-lodge-meat-raffle-2-2025-12-13/
LOCATION:MN
CATEGORIES:Community,Entertainment,Fundraiser
END:VEVENT
BEGIN:VEVENT
DTSTART;TZID=America/New_York:20251212T173000
DTEND;TZID=America/New_York:20251212T190000
DTSTAMP:20260421T093641
CREATED:20230207T151207Z
LAST-MODIFIED:20230207T151207Z
UID:5286-1765560600-1765566000@baudettelakeofthewoodschamber.com
SUMMARY:American Legion Meat Raffle
DESCRIPTION:
URL:https://baudettelakeofthewoodschamber.com/event/american-legion-meat-raffle-2-2025-12-12/
LOCATION:MN
CATEGORIES:Community,Entertainment,Fundraiser
END:VEVENT
BEGIN:VEVENT
DTSTART;TZID=America/New_York:20251206T180000
DTEND;TZID=America/New_York:20251206T200000
DTSTAMP:20260421T093641
CREATED:20230207T151256Z
LAST-MODIFIED:20230207T151256Z
UID:5284-1765044000-1765051200@baudettelakeofthewoodschamber.com
SUMMARY:Moose Lodge Meat Raffle
DESCRIPTION:
URL:https://baudettelakeofthewoodschamber.com/event/moose-lodge-meat-raffle-2-2025-12-06/
LOCATION:MN
CATEGORIES:Community,Entertainment,Fundraiser
END:VEVENT
BEGIN:VEVENT
DTSTART;TZID=America/New_York:20251205T173000
DTEND;TZID=America/New_York:20251205T190000
DTSTAMP:20260421T093641
CREATED:20230207T151207Z
LAST-MODIFIED:20230207T151207Z
UID:5283-1764955800-1764961200@baudettelakeofthewoodschamber.com
SUMMARY:American Legion Meat Raffle
DESCRIPTION:
URL:https://baudettelakeofthewoodschamber.com/event/american-legion-meat-raffle-2-2025-12-05/
LOCATION:MN
CATEGORIES:Community,Entertainment,Fundraiser
END:VEVENT
BEGIN:VEVENT
DTSTART;TZID=America/New_York:20251204T170000
DTEND;TZID=America/New_York:20251204T190000
DTSTAMP:20260421T093641
CREATED:20221229T184558Z
LAST-MODIFIED:20221229T184558Z
UID:5282-1764867600-1764874800@baudettelakeofthewoodschamber.com
SUMMARY:Ruby's Pantry Distribution
DESCRIPTION:$25 a share\, no income requirement! \n  \nLake of the Woods School Bus Garage
URL:https://baudettelakeofthewoodschamber.com/event/rubys-pantry-distribution-2-2025-12-04/
LOCATION:Lake of the Woods School\, 210 3rd Ave NE\, Baudette\, MN\, 56623\, United States
CATEGORIES:Community
END:VEVENT
BEGIN:VEVENT
DTSTART;TZID=America/New_York:20251129T180000
DTEND;TZID=America/New_York:20251129T200000
DTSTAMP:20260421T093641
CREATED:20230207T151256Z
LAST-MODIFIED:20230207T151256Z
UID:5280-1764439200-1764446400@baudettelakeofthewoodschamber.com
SUMMARY:Moose Lodge Meat Raffle
DESCRIPTION:
URL:https://baudettelakeofthewoodschamber.com/event/moose-lodge-meat-raffle-2-2025-11-29/
LOCATION:MN
CATEGORIES:Community,Entertainment,Fundraiser
END:VEVENT
BEGIN:VEVENT
DTSTART;TZID=America/New_York:20251128T173000
DTEND;TZID=America/New_York:20251128T190000
DTSTAMP:20260421T093641
CREATED:20230207T151207Z
LAST-MODIFIED:20230207T151207Z
UID:5279-1764351000-1764356400@baudettelakeofthewoodschamber.com
SUMMARY:American Legion Meat Raffle
DESCRIPTION:
URL:https://baudettelakeofthewoodschamber.com/event/american-legion-meat-raffle-2-2025-11-28/
LOCATION:MN
CATEGORIES:Community,Entertainment,Fundraiser
END:VEVENT
BEGIN:VEVENT
DTSTART;TZID=America/New_York:20251122T180000
DTEND;TZID=America/New_York:20251122T200000
DTSTAMP:20260421T093641
CREATED:20230207T151256Z
LAST-MODIFIED:20230207T151256Z
UID:5278-1763834400-1763841600@baudettelakeofthewoodschamber.com
SUMMARY:Moose Lodge Meat Raffle
DESCRIPTION:
URL:https://baudettelakeofthewoodschamber.com/event/moose-lodge-meat-raffle-2-2025-11-22/
LOCATION:MN
CATEGORIES:Community,Entertainment,Fundraiser
END:VEVENT
BEGIN:VEVENT
DTSTART;TZID=America/New_York:20251121T173000
DTEND;TZID=America/New_York:20251121T190000
DTSTAMP:20260421T093641
CREATED:20230207T151207Z
LAST-MODIFIED:20230207T151207Z
UID:5277-1763746200-1763751600@baudettelakeofthewoodschamber.com
SUMMARY:American Legion Meat Raffle
DESCRIPTION:
URL:https://baudettelakeofthewoodschamber.com/event/american-legion-meat-raffle-2-2025-11-21/
LOCATION:MN
CATEGORIES:Community,Entertainment,Fundraiser
END:VEVENT
BEGIN:VEVENT
DTSTART;TZID=America/New_York:20251115T180000
DTEND;TZID=America/New_York:20251115T200000
DTSTAMP:20260421T093641
CREATED:20230207T151256Z
LAST-MODIFIED:20230207T151256Z
UID:5276-1763229600-1763236800@baudettelakeofthewoodschamber.com
SUMMARY:Moose Lodge Meat Raffle
DESCRIPTION:
URL:https://baudettelakeofthewoodschamber.com/event/moose-lodge-meat-raffle-2-2025-11-15/
LOCATION:MN
CATEGORIES:Community,Entertainment,Fundraiser
END:VEVENT
BEGIN:VEVENT
DTSTART;TZID=America/New_York:20251114T173000
DTEND;TZID=America/New_York:20251114T190000
DTSTAMP:20260421T093641
CREATED:20230207T151207Z
LAST-MODIFIED:20230207T151207Z
UID:5275-1763141400-1763146800@baudettelakeofthewoodschamber.com
SUMMARY:American Legion Meat Raffle
DESCRIPTION:
URL:https://baudettelakeofthewoodschamber.com/event/american-legion-meat-raffle-2-2025-11-14/
LOCATION:MN
CATEGORIES:Community,Entertainment,Fundraiser
END:VEVENT
BEGIN:VEVENT
DTSTART;TZID=America/New_York:20251108T180000
DTEND;TZID=America/New_York:20251108T200000
DTSTAMP:20260421T093641
CREATED:20230207T151256Z
LAST-MODIFIED:20230207T151256Z
UID:5274-1762624800-1762632000@baudettelakeofthewoodschamber.com
SUMMARY:Moose Lodge Meat Raffle
DESCRIPTION:
URL:https://baudettelakeofthewoodschamber.com/event/moose-lodge-meat-raffle-2-2025-11-08/
LOCATION:MN
CATEGORIES:Community,Entertainment,Fundraiser
END:VEVENT
BEGIN:VEVENT
DTSTART;TZID=America/New_York:20251107T173000
DTEND;TZID=America/New_York:20251107T190000
DTSTAMP:20260421T093641
CREATED:20230207T151207Z
LAST-MODIFIED:20230207T151207Z
UID:5273-1762536600-1762542000@baudettelakeofthewoodschamber.com
SUMMARY:American Legion Meat Raffle
DESCRIPTION:
URL:https://baudettelakeofthewoodschamber.com/event/american-legion-meat-raffle-2-2025-11-07/
LOCATION:MN
CATEGORIES:Community,Entertainment,Fundraiser
END:VEVENT
BEGIN:VEVENT
DTSTART;TZID=America/New_York:20251106T170000
DTEND;TZID=America/New_York:20251106T190000
DTSTAMP:20260421T093641
CREATED:20221229T184558Z
LAST-MODIFIED:20221229T184558Z
UID:5272-1762448400-1762455600@baudettelakeofthewoodschamber.com
SUMMARY:Ruby's Pantry Distribution
DESCRIPTION:$25 a share\, no income requirement! \n  \nLake of the Woods School Bus Garage
URL:https://baudettelakeofthewoodschamber.com/event/rubys-pantry-distribution-2-2025-11-06/
LOCATION:Lake of the Woods School\, 210 3rd Ave NE\, Baudette\, MN\, 56623\, United States
CATEGORIES:Community
END:VEVENT
BEGIN:VEVENT
DTSTART;TZID=America/New_York:20251101T180000
DTEND;TZID=America/New_York:20251101T200000
DTSTAMP:20260421T093641
CREATED:20230207T151256Z
LAST-MODIFIED:20230207T151256Z
UID:5271-1762020000-1762027200@baudettelakeofthewoodschamber.com
SUMMARY:Moose Lodge Meat Raffle
DESCRIPTION:
URL:https://baudettelakeofthewoodschamber.com/event/moose-lodge-meat-raffle-2-2025-11-01/
LOCATION:MN
CATEGORIES:Community,Entertainment,Fundraiser
END:VEVENT
BEGIN:VEVENT
DTSTART;TZID=America/New_York:20251031T173000
DTEND;TZID=America/New_York:20251031T190000
DTSTAMP:20260421T093641
CREATED:20230207T151207Z
LAST-MODIFIED:20230207T151207Z
UID:5270-1761931800-1761937200@baudettelakeofthewoodschamber.com
SUMMARY:American Legion Meat Raffle
DESCRIPTION:
URL:https://baudettelakeofthewoodschamber.com/event/american-legion-meat-raffle-2-2025-10-31/
LOCATION:MN
CATEGORIES:Community,Entertainment,Fundraiser
END:VEVENT
BEGIN:VEVENT
DTSTART;TZID=America/New_York:20251025T180000
DTEND;TZID=America/New_York:20251025T200000
DTSTAMP:20260421T093641
CREATED:20230207T151256Z
LAST-MODIFIED:20230207T151256Z
UID:5269-1761415200-1761422400@baudettelakeofthewoodschamber.com
SUMMARY:Moose Lodge Meat Raffle
DESCRIPTION:
URL:https://baudettelakeofthewoodschamber.com/event/moose-lodge-meat-raffle-2-2025-10-25/
LOCATION:MN
CATEGORIES:Community,Entertainment,Fundraiser
END:VEVENT
BEGIN:VEVENT
DTSTART;TZID=America/New_York:20251024T173000
DTEND;TZID=America/New_York:20251024T190000
DTSTAMP:20260421T093641
CREATED:20230207T151207Z
LAST-MODIFIED:20230207T151207Z
UID:5268-1761327000-1761332400@baudettelakeofthewoodschamber.com
SUMMARY:American Legion Meat Raffle
DESCRIPTION:
URL:https://baudettelakeofthewoodschamber.com/event/american-legion-meat-raffle-2-2025-10-24/
LOCATION:MN
CATEGORIES:Community,Entertainment,Fundraiser
END:VEVENT
BEGIN:VEVENT
DTSTART;TZID=America/New_York:20251018T180000
DTEND;TZID=America/New_York:20251018T200000
DTSTAMP:20260421T093641
CREATED:20230207T151256Z
LAST-MODIFIED:20230207T151256Z
UID:5267-1760810400-1760817600@baudettelakeofthewoodschamber.com
SUMMARY:Moose Lodge Meat Raffle
DESCRIPTION:
URL:https://baudettelakeofthewoodschamber.com/event/moose-lodge-meat-raffle-2-2025-10-18/
LOCATION:MN
CATEGORIES:Community,Entertainment,Fundraiser
END:VEVENT
BEGIN:VEVENT
DTSTART;TZID=America/New_York:20251017T173000
DTEND;TZID=America/New_York:20251017T190000
DTSTAMP:20260421T093641
CREATED:20230207T151207Z
LAST-MODIFIED:20230207T151207Z
UID:5266-1760722200-1760727600@baudettelakeofthewoodschamber.com
SUMMARY:American Legion Meat Raffle
DESCRIPTION:
URL:https://baudettelakeofthewoodschamber.com/event/american-legion-meat-raffle-2-2025-10-17/
LOCATION:MN
CATEGORIES:Community,Entertainment,Fundraiser
END:VEVENT
BEGIN:VEVENT
DTSTART;TZID=America/New_York:20251011T180000
DTEND;TZID=America/New_York:20251011T200000
DTSTAMP:20260421T093641
CREATED:20230207T151256Z
LAST-MODIFIED:20230207T151256Z
UID:5265-1760205600-1760212800@baudettelakeofthewoodschamber.com
SUMMARY:Moose Lodge Meat Raffle
DESCRIPTION:
URL:https://baudettelakeofthewoodschamber.com/event/moose-lodge-meat-raffle-2-2025-10-11/
LOCATION:MN
CATEGORIES:Community,Entertainment,Fundraiser
END:VEVENT
BEGIN:VEVENT
DTSTART;TZID=America/New_York:20251010T173000
DTEND;TZID=America/New_York:20251010T190000
DTSTAMP:20260421T093641
CREATED:20230207T151207Z
LAST-MODIFIED:20230207T151207Z
UID:5264-1760117400-1760122800@baudettelakeofthewoodschamber.com
SUMMARY:American Legion Meat Raffle
DESCRIPTION:
URL:https://baudettelakeofthewoodschamber.com/event/american-legion-meat-raffle-2-2025-10-10/
LOCATION:MN
CATEGORIES:Community,Entertainment,Fundraiser
END:VEVENT
END:VCALENDAR