BEGIN:VCALENDAR
VERSION:2.0
PRODID:-//Baudette Chamber of Commerce - ECPv6.15.18//NONSGML v1.0//EN
CALSCALE:GREGORIAN
METHOD:PUBLISH
X-WR-CALNAME:Baudette Chamber of Commerce
X-ORIGINAL-URL:https://baudettelakeofthewoodschamber.com
X-WR-CALDESC:Events for Baudette Chamber of Commerce
REFRESH-INTERVAL;VALUE=DURATION:PT1H
X-Robots-Tag:noindex
X-PUBLISHED-TTL:PT1H
BEGIN:VTIMEZONE
TZID:America/New_York
BEGIN:DAYLIGHT
TZOFFSETFROM:-0500
TZOFFSETTO:-0400
TZNAME:EDT
DTSTART:20240310T070000
END:DAYLIGHT
BEGIN:STANDARD
TZOFFSETFROM:-0400
TZOFFSETTO:-0500
TZNAME:EST
DTSTART:20241103T060000
END:STANDARD
BEGIN:DAYLIGHT
TZOFFSETFROM:-0500
TZOFFSETTO:-0400
TZNAME:EDT
DTSTART:20250309T070000
END:DAYLIGHT
BEGIN:STANDARD
TZOFFSETFROM:-0400
TZOFFSETTO:-0500
TZNAME:EST
DTSTART:20251102T060000
END:STANDARD
BEGIN:DAYLIGHT
TZOFFSETFROM:-0500
TZOFFSETTO:-0400
TZNAME:EDT
DTSTART:20260308T070000
END:DAYLIGHT
BEGIN:STANDARD
TZOFFSETFROM:-0400
TZOFFSETTO:-0500
TZNAME:EST
DTSTART:20261101T060000
END:STANDARD
END:VTIMEZONE
BEGIN:VEVENT
DTSTART;TZID=America/New_York:20250403T170000
DTEND;TZID=America/New_York:20250403T190000
DTSTAMP:20260419T103802
CREATED:20221229T184558Z
LAST-MODIFIED:20221229T184558Z
UID:4987-1743699600-1743706800@baudettelakeofthewoodschamber.com
SUMMARY:Ruby's Pantry Distribution
DESCRIPTION:$25 a share\, no income requirement! \n  \nLake of the Woods School Bus Garage
URL:https://baudettelakeofthewoodschamber.com/event/rubys-pantry-distribution-2-2025-04-03/
LOCATION:Lake of the Woods School\, 210 3rd Ave NE\, Baudette\, MN\, 56623\, United States
CATEGORIES:Community
END:VEVENT
BEGIN:VEVENT
DTSTART;TZID=America/New_York:20250404T173000
DTEND;TZID=America/New_York:20250404T190000
DTSTAMP:20260419T103802
CREATED:20230207T151207Z
LAST-MODIFIED:20230207T151207Z
UID:4990-1743787800-1743793200@baudettelakeofthewoodschamber.com
SUMMARY:American Legion Meat Raffle
DESCRIPTION:
URL:https://baudettelakeofthewoodschamber.com/event/american-legion-meat-raffle-2-2025-04-04/
LOCATION:MN
CATEGORIES:Community,Entertainment,Fundraiser
END:VEVENT
BEGIN:VEVENT
DTSTART;TZID=America/New_York:20250405T180000
DTEND;TZID=America/New_York:20250405T200000
DTSTAMP:20260419T103802
CREATED:20230207T151256Z
LAST-MODIFIED:20230207T151256Z
UID:4991-1743876000-1743883200@baudettelakeofthewoodschamber.com
SUMMARY:Moose Lodge Meat Raffle
DESCRIPTION:
URL:https://baudettelakeofthewoodschamber.com/event/moose-lodge-meat-raffle-2-2025-04-05/
LOCATION:MN
CATEGORIES:Community,Entertainment,Fundraiser
END:VEVENT
BEGIN:VEVENT
DTSTART;TZID=America/New_York:20250411T173000
DTEND;TZID=America/New_York:20250411T190000
DTSTAMP:20260419T103802
CREATED:20230207T151207Z
LAST-MODIFIED:20230207T151207Z
UID:4992-1744392600-1744398000@baudettelakeofthewoodschamber.com
SUMMARY:American Legion Meat Raffle
DESCRIPTION:
URL:https://baudettelakeofthewoodschamber.com/event/american-legion-meat-raffle-2-2025-04-11/
LOCATION:MN
CATEGORIES:Community,Entertainment,Fundraiser
END:VEVENT
BEGIN:VEVENT
DTSTART;TZID=America/New_York:20250412T180000
DTEND;TZID=America/New_York:20250412T200000
DTSTAMP:20260419T103802
CREATED:20230207T151256Z
LAST-MODIFIED:20230207T151256Z
UID:4993-1744480800-1744488000@baudettelakeofthewoodschamber.com
SUMMARY:Moose Lodge Meat Raffle
DESCRIPTION:
URL:https://baudettelakeofthewoodschamber.com/event/moose-lodge-meat-raffle-2-2025-04-12/
LOCATION:MN
CATEGORIES:Community,Entertainment,Fundraiser
END:VEVENT
BEGIN:VEVENT
DTSTART;TZID=America/New_York:20250418T173000
DTEND;TZID=America/New_York:20250418T190000
DTSTAMP:20260419T103802
CREATED:20230207T151207Z
LAST-MODIFIED:20230207T151207Z
UID:4994-1744997400-1745002800@baudettelakeofthewoodschamber.com
SUMMARY:American Legion Meat Raffle
DESCRIPTION:
URL:https://baudettelakeofthewoodschamber.com/event/american-legion-meat-raffle-2-2025-04-18/
LOCATION:MN
CATEGORIES:Community,Entertainment,Fundraiser
END:VEVENT
BEGIN:VEVENT
DTSTART;TZID=America/New_York:20250419T180000
DTEND;TZID=America/New_York:20250419T200000
DTSTAMP:20260419T103802
CREATED:20230207T151256Z
LAST-MODIFIED:20230207T151256Z
UID:4995-1745085600-1745092800@baudettelakeofthewoodschamber.com
SUMMARY:Moose Lodge Meat Raffle
DESCRIPTION:
URL:https://baudettelakeofthewoodschamber.com/event/moose-lodge-meat-raffle-2-2025-04-19/
LOCATION:MN
CATEGORIES:Community,Entertainment,Fundraiser
END:VEVENT
BEGIN:VEVENT
DTSTART;TZID=America/New_York:20250425T173000
DTEND;TZID=America/New_York:20250425T190000
DTSTAMP:20260419T103802
CREATED:20230207T151207Z
LAST-MODIFIED:20230207T151207Z
UID:4996-1745602200-1745607600@baudettelakeofthewoodschamber.com
SUMMARY:American Legion Meat Raffle
DESCRIPTION:
URL:https://baudettelakeofthewoodschamber.com/event/american-legion-meat-raffle-2-2025-04-25/
LOCATION:MN
CATEGORIES:Community,Entertainment,Fundraiser
END:VEVENT
BEGIN:VEVENT
DTSTART;TZID=America/New_York:20250426T180000
DTEND;TZID=America/New_York:20250426T200000
DTSTAMP:20260419T103802
CREATED:20230207T151256Z
LAST-MODIFIED:20230207T151256Z
UID:4997-1745690400-1745697600@baudettelakeofthewoodschamber.com
SUMMARY:Moose Lodge Meat Raffle
DESCRIPTION:
URL:https://baudettelakeofthewoodschamber.com/event/moose-lodge-meat-raffle-2-2025-04-26/
LOCATION:MN
CATEGORIES:Community,Entertainment,Fundraiser
END:VEVENT
BEGIN:VEVENT
DTSTART;TZID=America/New_York:20250501T170000
DTEND;TZID=America/New_York:20250501T190000
DTSTAMP:20260419T103802
CREATED:20221229T184558Z
LAST-MODIFIED:20221229T184558Z
UID:5013-1746118800-1746126000@baudettelakeofthewoodschamber.com
SUMMARY:Ruby's Pantry Distribution
DESCRIPTION:$25 a share\, no income requirement! \n  \nLake of the Woods School Bus Garage
URL:https://baudettelakeofthewoodschamber.com/event/rubys-pantry-distribution-2-2025-05-01/
LOCATION:Lake of the Woods School\, 210 3rd Ave NE\, Baudette\, MN\, 56623\, United States
CATEGORIES:Community
END:VEVENT
BEGIN:VEVENT
DTSTART;TZID=America/New_York:20250502T173000
DTEND;TZID=America/New_York:20250502T190000
DTSTAMP:20260419T103802
CREATED:20230207T151207Z
LAST-MODIFIED:20230207T151207Z
UID:5014-1746207000-1746212400@baudettelakeofthewoodschamber.com
SUMMARY:American Legion Meat Raffle
DESCRIPTION:
URL:https://baudettelakeofthewoodschamber.com/event/american-legion-meat-raffle-2-2025-05-02/
LOCATION:MN
CATEGORIES:Community,Entertainment,Fundraiser
END:VEVENT
BEGIN:VEVENT
DTSTART;TZID=America/New_York:20250503T180000
DTEND;TZID=America/New_York:20250503T200000
DTSTAMP:20260419T103802
CREATED:20230207T151256Z
LAST-MODIFIED:20230207T151256Z
UID:5015-1746295200-1746302400@baudettelakeofthewoodschamber.com
SUMMARY:Moose Lodge Meat Raffle
DESCRIPTION:
URL:https://baudettelakeofthewoodschamber.com/event/moose-lodge-meat-raffle-2-2025-05-03/
LOCATION:MN
CATEGORIES:Community,Entertainment,Fundraiser
END:VEVENT
BEGIN:VEVENT
DTSTART;TZID=America/New_York:20250509T173000
DTEND;TZID=America/New_York:20250509T190000
DTSTAMP:20260419T103802
CREATED:20230207T151207Z
LAST-MODIFIED:20230207T151207Z
UID:5034-1746811800-1746817200@baudettelakeofthewoodschamber.com
SUMMARY:American Legion Meat Raffle
DESCRIPTION:
URL:https://baudettelakeofthewoodschamber.com/event/american-legion-meat-raffle-2-2025-05-09/
LOCATION:MN
CATEGORIES:Community,Entertainment,Fundraiser
END:VEVENT
BEGIN:VEVENT
DTSTART;TZID=America/New_York:20250510T180000
DTEND;TZID=America/New_York:20250510T200000
DTSTAMP:20260419T103802
CREATED:20230207T151256Z
LAST-MODIFIED:20230207T151256Z
UID:5035-1746900000-1746907200@baudettelakeofthewoodschamber.com
SUMMARY:Moose Lodge Meat Raffle
DESCRIPTION:
URL:https://baudettelakeofthewoodschamber.com/event/moose-lodge-meat-raffle-2-2025-05-10/
LOCATION:MN
CATEGORIES:Community,Entertainment,Fundraiser
END:VEVENT
BEGIN:VEVENT
DTSTART;TZID=America/New_York:20250516T173000
DTEND;TZID=America/New_York:20250516T190000
DTSTAMP:20260419T103802
CREATED:20230207T151207Z
LAST-MODIFIED:20230207T151207Z
UID:5040-1747416600-1747422000@baudettelakeofthewoodschamber.com
SUMMARY:American Legion Meat Raffle
DESCRIPTION:
URL:https://baudettelakeofthewoodschamber.com/event/american-legion-meat-raffle-2-2025-05-16/
LOCATION:MN
CATEGORIES:Community,Entertainment,Fundraiser
END:VEVENT
BEGIN:VEVENT
DTSTART;TZID=America/New_York:20250517T180000
DTEND;TZID=America/New_York:20250517T200000
DTSTAMP:20260419T103802
CREATED:20230207T151256Z
LAST-MODIFIED:20230207T151256Z
UID:5041-1747504800-1747512000@baudettelakeofthewoodschamber.com
SUMMARY:Moose Lodge Meat Raffle
DESCRIPTION:
URL:https://baudettelakeofthewoodschamber.com/event/moose-lodge-meat-raffle-2-2025-05-17/
LOCATION:MN
CATEGORIES:Community,Entertainment,Fundraiser
END:VEVENT
BEGIN:VEVENT
DTSTART;TZID=America/New_York:20250523T173000
DTEND;TZID=America/New_York:20250523T190000
DTSTAMP:20260419T103802
CREATED:20230207T151207Z
LAST-MODIFIED:20230207T151207Z
UID:5074-1748021400-1748026800@baudettelakeofthewoodschamber.com
SUMMARY:American Legion Meat Raffle
DESCRIPTION:
URL:https://baudettelakeofthewoodschamber.com/event/american-legion-meat-raffle-2-2025-05-23/
LOCATION:MN
CATEGORIES:Community,Entertainment,Fundraiser
END:VEVENT
BEGIN:VEVENT
DTSTART;TZID=America/New_York:20250524T180000
DTEND;TZID=America/New_York:20250524T200000
DTSTAMP:20260419T103802
CREATED:20230207T151256Z
LAST-MODIFIED:20230207T151256Z
UID:5075-1748109600-1748116800@baudettelakeofthewoodschamber.com
SUMMARY:Moose Lodge Meat Raffle
DESCRIPTION:
URL:https://baudettelakeofthewoodschamber.com/event/moose-lodge-meat-raffle-2-2025-05-24/
LOCATION:MN
CATEGORIES:Community,Entertainment,Fundraiser
END:VEVENT
BEGIN:VEVENT
DTSTART;TZID=America/New_York:20250530T173000
DTEND;TZID=America/New_York:20250530T190000
DTSTAMP:20260419T103802
CREATED:20230207T151207Z
LAST-MODIFIED:20230207T151207Z
UID:5076-1748626200-1748631600@baudettelakeofthewoodschamber.com
SUMMARY:American Legion Meat Raffle
DESCRIPTION:
URL:https://baudettelakeofthewoodschamber.com/event/american-legion-meat-raffle-2-2025-05-30/
LOCATION:MN
CATEGORIES:Community,Entertainment,Fundraiser
END:VEVENT
BEGIN:VEVENT
DTSTART;TZID=America/New_York:20250531T180000
DTEND;TZID=America/New_York:20250531T200000
DTSTAMP:20260419T103802
CREATED:20230207T151256Z
LAST-MODIFIED:20230207T151256Z
UID:5078-1748714400-1748721600@baudettelakeofthewoodschamber.com
SUMMARY:Moose Lodge Meat Raffle
DESCRIPTION:
URL:https://baudettelakeofthewoodschamber.com/event/moose-lodge-meat-raffle-2-2025-05-31/
LOCATION:MN
CATEGORIES:Community,Entertainment,Fundraiser
END:VEVENT
BEGIN:VEVENT
DTSTART;TZID=America/New_York:20250605T170000
DTEND;TZID=America/New_York:20250605T190000
DTSTAMP:20260419T103802
CREATED:20221229T184558Z
LAST-MODIFIED:20221229T184558Z
UID:5079-1749142800-1749150000@baudettelakeofthewoodschamber.com
SUMMARY:Ruby's Pantry Distribution
DESCRIPTION:$25 a share\, no income requirement! \n  \nLake of the Woods School Bus Garage
URL:https://baudettelakeofthewoodschamber.com/event/rubys-pantry-distribution-2-2025-06-05/
LOCATION:Lake of the Woods School\, 210 3rd Ave NE\, Baudette\, MN\, 56623\, United States
CATEGORIES:Community
END:VEVENT
BEGIN:VEVENT
DTSTART;TZID=America/New_York:20250606T173000
DTEND;TZID=America/New_York:20250606T190000
DTSTAMP:20260419T103802
CREATED:20230207T151207Z
LAST-MODIFIED:20230207T151207Z
UID:5080-1749231000-1749236400@baudettelakeofthewoodschamber.com
SUMMARY:American Legion Meat Raffle
DESCRIPTION:
URL:https://baudettelakeofthewoodschamber.com/event/american-legion-meat-raffle-2-2025-06-06/
LOCATION:MN
CATEGORIES:Community,Entertainment,Fundraiser
END:VEVENT
BEGIN:VEVENT
DTSTART;TZID=America/New_York:20250607T180000
DTEND;TZID=America/New_York:20250607T200000
DTSTAMP:20260419T103802
CREATED:20230207T151256Z
LAST-MODIFIED:20230207T151256Z
UID:5081-1749319200-1749326400@baudettelakeofthewoodschamber.com
SUMMARY:Moose Lodge Meat Raffle
DESCRIPTION:
URL:https://baudettelakeofthewoodschamber.com/event/moose-lodge-meat-raffle-2-2025-06-07/
LOCATION:MN
CATEGORIES:Community,Entertainment,Fundraiser
END:VEVENT
BEGIN:VEVENT
DTSTART;TZID=America/New_York:20250613T173000
DTEND;TZID=America/New_York:20250613T190000
DTSTAMP:20260419T103802
CREATED:20230207T151207Z
LAST-MODIFIED:20230207T151207Z
UID:5083-1749835800-1749841200@baudettelakeofthewoodschamber.com
SUMMARY:American Legion Meat Raffle
DESCRIPTION:
URL:https://baudettelakeofthewoodschamber.com/event/american-legion-meat-raffle-2-2025-06-13/
LOCATION:MN
CATEGORIES:Community,Entertainment,Fundraiser
END:VEVENT
BEGIN:VEVENT
DTSTART;TZID=America/New_York:20250614T180000
DTEND;TZID=America/New_York:20250614T200000
DTSTAMP:20260419T103802
CREATED:20230207T151256Z
LAST-MODIFIED:20230207T151256Z
UID:5084-1749924000-1749931200@baudettelakeofthewoodschamber.com
SUMMARY:Moose Lodge Meat Raffle
DESCRIPTION:
URL:https://baudettelakeofthewoodschamber.com/event/moose-lodge-meat-raffle-2-2025-06-14/
LOCATION:MN
CATEGORIES:Community,Entertainment,Fundraiser
END:VEVENT
BEGIN:VEVENT
DTSTART;TZID=America/New_York:20250620T173000
DTEND;TZID=America/New_York:20250620T190000
DTSTAMP:20260419T103802
CREATED:20230207T151207Z
LAST-MODIFIED:20230207T151207Z
UID:5086-1750440600-1750446000@baudettelakeofthewoodschamber.com
SUMMARY:American Legion Meat Raffle
DESCRIPTION:
URL:https://baudettelakeofthewoodschamber.com/event/american-legion-meat-raffle-2-2025-06-20/
LOCATION:MN
CATEGORIES:Community,Entertainment,Fundraiser
END:VEVENT
BEGIN:VEVENT
DTSTART;TZID=America/New_York:20250621T180000
DTEND;TZID=America/New_York:20250621T200000
DTSTAMP:20260419T103802
CREATED:20230207T151256Z
LAST-MODIFIED:20230207T151256Z
UID:5087-1750528800-1750536000@baudettelakeofthewoodschamber.com
SUMMARY:Moose Lodge Meat Raffle
DESCRIPTION:
URL:https://baudettelakeofthewoodschamber.com/event/moose-lodge-meat-raffle-2-2025-06-21/
LOCATION:MN
CATEGORIES:Community,Entertainment,Fundraiser
END:VEVENT
BEGIN:VEVENT
DTSTART;TZID=America/New_York:20250627T173000
DTEND;TZID=America/New_York:20250627T190000
DTSTAMP:20260419T103802
CREATED:20230207T151207Z
LAST-MODIFIED:20230207T151207Z
UID:5089-1751045400-1751050800@baudettelakeofthewoodschamber.com
SUMMARY:American Legion Meat Raffle
DESCRIPTION:
URL:https://baudettelakeofthewoodschamber.com/event/american-legion-meat-raffle-2-2025-06-27/
LOCATION:MN
CATEGORIES:Community,Entertainment,Fundraiser
END:VEVENT
BEGIN:VEVENT
DTSTART;TZID=America/New_York:20250628T180000
DTEND;TZID=America/New_York:20250628T200000
DTSTAMP:20260419T103802
CREATED:20230207T151256Z
LAST-MODIFIED:20230207T151256Z
UID:5094-1751133600-1751140800@baudettelakeofthewoodschamber.com
SUMMARY:Moose Lodge Meat Raffle
DESCRIPTION:
URL:https://baudettelakeofthewoodschamber.com/event/moose-lodge-meat-raffle-2-2025-06-28/
LOCATION:MN
CATEGORIES:Community,Entertainment,Fundraiser
END:VEVENT
BEGIN:VEVENT
DTSTART;TZID=America/New_York:20250703T170000
DTEND;TZID=America/New_York:20250703T190000
DTSTAMP:20260419T103802
CREATED:20221229T184558Z
LAST-MODIFIED:20221229T184558Z
UID:5095-1751562000-1751569200@baudettelakeofthewoodschamber.com
SUMMARY:Ruby's Pantry Distribution
DESCRIPTION:$25 a share\, no income requirement! \n  \nLake of the Woods School Bus Garage
URL:https://baudettelakeofthewoodschamber.com/event/rubys-pantry-distribution-2-2025-07-03/
LOCATION:Lake of the Woods School\, 210 3rd Ave NE\, Baudette\, MN\, 56623\, United States
CATEGORIES:Community
END:VEVENT
END:VCALENDAR