BEGIN:VCALENDAR
VERSION:2.0
PRODID:-//Baudette Chamber of Commerce - ECPv6.15.18//NONSGML v1.0//EN
CALSCALE:GREGORIAN
METHOD:PUBLISH
X-ORIGINAL-URL:https://baudettelakeofthewoodschamber.com
X-WR-CALDESC:Events for Baudette Chamber of Commerce
REFRESH-INTERVAL;VALUE=DURATION:PT1H
X-Robots-Tag:noindex
X-PUBLISHED-TTL:PT1H
BEGIN:VTIMEZONE
TZID:America/New_York
BEGIN:DAYLIGHT
TZOFFSETFROM:-0500
TZOFFSETTO:-0400
TZNAME:EDT
DTSTART:20250309T070000
END:DAYLIGHT
BEGIN:STANDARD
TZOFFSETFROM:-0400
TZOFFSETTO:-0500
TZNAME:EST
DTSTART:20251102T060000
END:STANDARD
BEGIN:DAYLIGHT
TZOFFSETFROM:-0500
TZOFFSETTO:-0400
TZNAME:EDT
DTSTART:20260308T070000
END:DAYLIGHT
BEGIN:STANDARD
TZOFFSETFROM:-0400
TZOFFSETTO:-0500
TZNAME:EST
DTSTART:20261101T060000
END:STANDARD
BEGIN:DAYLIGHT
TZOFFSETFROM:-0500
TZOFFSETTO:-0400
TZNAME:EDT
DTSTART:20270314T070000
END:DAYLIGHT
BEGIN:STANDARD
TZOFFSETFROM:-0400
TZOFFSETTO:-0500
TZNAME:EST
DTSTART:20271107T060000
END:STANDARD
END:VTIMEZONE
BEGIN:VEVENT
DTSTART;TZID=America/New_York:20260314T180000
DTEND;TZID=America/New_York:20260314T200000
DTSTAMP:20260419T091708
CREATED:20230207T151256Z
LAST-MODIFIED:20230207T151256Z
UID:5320-1773511200-1773518400@baudettelakeofthewoodschamber.com
SUMMARY:Moose Lodge Meat Raffle
DESCRIPTION:
URL:https://baudettelakeofthewoodschamber.com/event/moose-lodge-meat-raffle-2-2026-03-14/
LOCATION:MN
CATEGORIES:Community,Entertainment,Fundraiser
END:VEVENT
BEGIN:VEVENT
DTSTART;TZID=America/New_York:20260316T170000
DTEND;TZID=America/New_York:20260316T180000
DTSTAMP:20260419T091708
CREATED:20260312T170937Z
LAST-MODIFIED:20260312T170937Z
UID:5470-1773680400-1773684000@baudettelakeofthewoodschamber.com
SUMMARY:Reignite the Chamber
DESCRIPTION:This is an open invitation to business owners\, leaders\, entrepreneurs\, creatives\, nonprofit partners and community members who care about the future of Lake of the Woods. \nWhether you want to listen\, share ideas\, volunteer\, or help shape the vision\, your voice matters.\nJoin us for Round Two \n16 March 2026 at 5:00pm  \nBaudette City Hall
URL:https://baudettelakeofthewoodschamber.com/event/reignite-the-chamber/
END:VEVENT
BEGIN:VEVENT
DTSTART;TZID=America/New_York:20260320T173000
DTEND;TZID=America/New_York:20260320T190000
DTSTAMP:20260419T091708
CREATED:20230207T151207Z
LAST-MODIFIED:20230207T151207Z
UID:5321-1774027800-1774033200@baudettelakeofthewoodschamber.com
SUMMARY:American Legion Meat Raffle
DESCRIPTION:
URL:https://baudettelakeofthewoodschamber.com/event/american-legion-meat-raffle-2-2026-03-20/
LOCATION:MN
CATEGORIES:Community,Entertainment,Fundraiser
END:VEVENT
BEGIN:VEVENT
DTSTART;TZID=America/New_York:20260321T180000
DTEND;TZID=America/New_York:20260321T200000
DTSTAMP:20260419T091708
CREATED:20230207T151256Z
LAST-MODIFIED:20230207T151256Z
UID:5322-1774116000-1774123200@baudettelakeofthewoodschamber.com
SUMMARY:Moose Lodge Meat Raffle
DESCRIPTION:
URL:https://baudettelakeofthewoodschamber.com/event/moose-lodge-meat-raffle-2-2026-03-21/
LOCATION:MN
CATEGORIES:Community,Entertainment,Fundraiser
END:VEVENT
BEGIN:VEVENT
DTSTART;TZID=America/New_York:20260327T173000
DTEND;TZID=America/New_York:20260327T190000
DTSTAMP:20260419T091708
CREATED:20230207T151207Z
LAST-MODIFIED:20230207T151207Z
UID:5323-1774632600-1774638000@baudettelakeofthewoodschamber.com
SUMMARY:American Legion Meat Raffle
DESCRIPTION:
URL:https://baudettelakeofthewoodschamber.com/event/american-legion-meat-raffle-2-2026-03-27/
LOCATION:MN
CATEGORIES:Community,Entertainment,Fundraiser
END:VEVENT
BEGIN:VEVENT
DTSTART;TZID=America/New_York:20260328T180000
DTEND;TZID=America/New_York:20260328T200000
DTSTAMP:20260419T091708
CREATED:20230207T151256Z
LAST-MODIFIED:20230207T151256Z
UID:5324-1774720800-1774728000@baudettelakeofthewoodschamber.com
SUMMARY:Moose Lodge Meat Raffle
DESCRIPTION:
URL:https://baudettelakeofthewoodschamber.com/event/moose-lodge-meat-raffle-2-2026-03-28/
LOCATION:MN
CATEGORIES:Community,Entertainment,Fundraiser
END:VEVENT
BEGIN:VEVENT
DTSTART;TZID=America/New_York:20260402T170000
DTEND;TZID=America/New_York:20260402T190000
DTSTAMP:20260419T091708
CREATED:20221229T184558Z
LAST-MODIFIED:20221229T184558Z
UID:5326-1775149200-1775156400@baudettelakeofthewoodschamber.com
SUMMARY:Ruby's Pantry Distribution
DESCRIPTION:$25 a share\, no income requirement! \n  \nLake of the Woods School Bus Garage
URL:https://baudettelakeofthewoodschamber.com/event/rubys-pantry-distribution-2-2026-04-02/
LOCATION:Lake of the Woods School\, 210 3rd Ave NE\, Baudette\, MN\, 56623\, United States
CATEGORIES:Community
END:VEVENT
BEGIN:VEVENT
DTSTART;TZID=America/New_York:20260403T173000
DTEND;TZID=America/New_York:20260403T190000
DTSTAMP:20260419T091708
CREATED:20230207T151207Z
LAST-MODIFIED:20230207T151207Z
UID:5327-1775237400-1775242800@baudettelakeofthewoodschamber.com
SUMMARY:American Legion Meat Raffle
DESCRIPTION:
URL:https://baudettelakeofthewoodschamber.com/event/american-legion-meat-raffle-2-2026-04-03/
LOCATION:MN
CATEGORIES:Community,Entertainment,Fundraiser
END:VEVENT
BEGIN:VEVENT
DTSTART;TZID=America/New_York:20260404T180000
DTEND;TZID=America/New_York:20260404T200000
DTSTAMP:20260419T091708
CREATED:20230207T151256Z
LAST-MODIFIED:20230207T151256Z
UID:5328-1775325600-1775332800@baudettelakeofthewoodschamber.com
SUMMARY:Moose Lodge Meat Raffle
DESCRIPTION:
URL:https://baudettelakeofthewoodschamber.com/event/moose-lodge-meat-raffle-2-2026-04-04/
LOCATION:MN
CATEGORIES:Community,Entertainment,Fundraiser
END:VEVENT
BEGIN:VEVENT
DTSTART;TZID=America/New_York:20260410T173000
DTEND;TZID=America/New_York:20260410T190000
DTSTAMP:20260419T091708
CREATED:20230207T151207Z
LAST-MODIFIED:20230207T151207Z
UID:5329-1775842200-1775847600@baudettelakeofthewoodschamber.com
SUMMARY:American Legion Meat Raffle
DESCRIPTION:
URL:https://baudettelakeofthewoodschamber.com/event/american-legion-meat-raffle-2-2026-04-10/
LOCATION:MN
CATEGORIES:Community,Entertainment,Fundraiser
END:VEVENT
BEGIN:VEVENT
DTSTART;TZID=America/New_York:20260411T180000
DTEND;TZID=America/New_York:20260411T200000
DTSTAMP:20260419T091708
CREATED:20230207T151256Z
LAST-MODIFIED:20230207T151256Z
UID:5330-1775930400-1775937600@baudettelakeofthewoodschamber.com
SUMMARY:Moose Lodge Meat Raffle
DESCRIPTION:
URL:https://baudettelakeofthewoodschamber.com/event/moose-lodge-meat-raffle-2-2026-04-11/
LOCATION:MN
CATEGORIES:Community,Entertainment,Fundraiser
END:VEVENT
BEGIN:VEVENT
DTSTART;TZID=America/New_York:20260417T173000
DTEND;TZID=America/New_York:20260417T190000
DTSTAMP:20260419T091708
CREATED:20230207T151207Z
LAST-MODIFIED:20230207T151207Z
UID:5331-1776447000-1776452400@baudettelakeofthewoodschamber.com
SUMMARY:American Legion Meat Raffle
DESCRIPTION:
URL:https://baudettelakeofthewoodschamber.com/event/american-legion-meat-raffle-2-2026-04-17/
LOCATION:MN
CATEGORIES:Community,Entertainment,Fundraiser
END:VEVENT
BEGIN:VEVENT
DTSTART;TZID=America/New_York:20260418T180000
DTEND;TZID=America/New_York:20260418T200000
DTSTAMP:20260419T091708
CREATED:20230207T151256Z
LAST-MODIFIED:20230207T151256Z
UID:5332-1776535200-1776542400@baudettelakeofthewoodschamber.com
SUMMARY:Moose Lodge Meat Raffle
DESCRIPTION:
URL:https://baudettelakeofthewoodschamber.com/event/moose-lodge-meat-raffle-2-2026-04-18/
LOCATION:MN
CATEGORIES:Community,Entertainment,Fundraiser
END:VEVENT
BEGIN:VEVENT
DTSTART;TZID=America/New_York:20260424T173000
DTEND;TZID=America/New_York:20260424T190000
DTSTAMP:20260419T091708
CREATED:20230207T151207Z
LAST-MODIFIED:20230207T151207Z
UID:5333-1777051800-1777057200@baudettelakeofthewoodschamber.com
SUMMARY:American Legion Meat Raffle
DESCRIPTION:
URL:https://baudettelakeofthewoodschamber.com/event/american-legion-meat-raffle-2-2026-04-24/
LOCATION:MN
CATEGORIES:Community,Entertainment,Fundraiser
END:VEVENT
BEGIN:VEVENT
DTSTART;TZID=America/New_York:20260425T180000
DTEND;TZID=America/New_York:20260425T200000
DTSTAMP:20260419T091708
CREATED:20230207T151256Z
LAST-MODIFIED:20230207T151256Z
UID:5334-1777140000-1777147200@baudettelakeofthewoodschamber.com
SUMMARY:Moose Lodge Meat Raffle
DESCRIPTION:
URL:https://baudettelakeofthewoodschamber.com/event/moose-lodge-meat-raffle-2-2026-04-25/
LOCATION:MN
CATEGORIES:Community,Entertainment,Fundraiser
END:VEVENT
BEGIN:VEVENT
DTSTART;TZID=America/New_York:20260501T173000
DTEND;TZID=America/New_York:20260501T190000
DTSTAMP:20260419T091708
CREATED:20230207T151207Z
LAST-MODIFIED:20230207T151207Z
UID:5335-1777656600-1777662000@baudettelakeofthewoodschamber.com
SUMMARY:American Legion Meat Raffle
DESCRIPTION:
URL:https://baudettelakeofthewoodschamber.com/event/american-legion-meat-raffle-2-2026-05-01/
LOCATION:MN
CATEGORIES:Community,Entertainment,Fundraiser
END:VEVENT
BEGIN:VEVENT
DTSTART;TZID=America/New_York:20260502T180000
DTEND;TZID=America/New_York:20260502T200000
DTSTAMP:20260419T091708
CREATED:20230207T151256Z
LAST-MODIFIED:20230207T151256Z
UID:5336-1777744800-1777752000@baudettelakeofthewoodschamber.com
SUMMARY:Moose Lodge Meat Raffle
DESCRIPTION:
URL:https://baudettelakeofthewoodschamber.com/event/moose-lodge-meat-raffle-2-2026-05-02/
LOCATION:MN
CATEGORIES:Community,Entertainment,Fundraiser
END:VEVENT
BEGIN:VEVENT
DTSTART;TZID=America/New_York:20260507T170000
DTEND;TZID=America/New_York:20260507T190000
DTSTAMP:20260419T091708
CREATED:20221229T184558Z
LAST-MODIFIED:20221229T184558Z
UID:5337-1778173200-1778180400@baudettelakeofthewoodschamber.com
SUMMARY:Ruby's Pantry Distribution
DESCRIPTION:$25 a share\, no income requirement! \n  \nLake of the Woods School Bus Garage
URL:https://baudettelakeofthewoodschamber.com/event/rubys-pantry-distribution-2-2026-05-07/
LOCATION:Lake of the Woods School\, 210 3rd Ave NE\, Baudette\, MN\, 56623\, United States
CATEGORIES:Community
END:VEVENT
BEGIN:VEVENT
DTSTART;TZID=America/New_York:20260508T173000
DTEND;TZID=America/New_York:20260508T190000
DTSTAMP:20260419T091708
CREATED:20230207T151207Z
LAST-MODIFIED:20230207T151207Z
UID:5338-1778261400-1778266800@baudettelakeofthewoodschamber.com
SUMMARY:American Legion Meat Raffle
DESCRIPTION:
URL:https://baudettelakeofthewoodschamber.com/event/american-legion-meat-raffle-2-2026-05-08/
LOCATION:MN
CATEGORIES:Community,Entertainment,Fundraiser
END:VEVENT
BEGIN:VEVENT
DTSTART;TZID=America/New_York:20260509T180000
DTEND;TZID=America/New_York:20260509T200000
DTSTAMP:20260419T091708
CREATED:20230207T151256Z
LAST-MODIFIED:20230207T151256Z
UID:5339-1778349600-1778356800@baudettelakeofthewoodschamber.com
SUMMARY:Moose Lodge Meat Raffle
DESCRIPTION:
URL:https://baudettelakeofthewoodschamber.com/event/moose-lodge-meat-raffle-2-2026-05-09/
LOCATION:MN
CATEGORIES:Community,Entertainment,Fundraiser
END:VEVENT
BEGIN:VEVENT
DTSTART;TZID=America/New_York:20260515T173000
DTEND;TZID=America/New_York:20260515T190000
DTSTAMP:20260419T091708
CREATED:20230207T151207Z
LAST-MODIFIED:20230207T151207Z
UID:5343-1778866200-1778871600@baudettelakeofthewoodschamber.com
SUMMARY:American Legion Meat Raffle
DESCRIPTION:
URL:https://baudettelakeofthewoodschamber.com/event/american-legion-meat-raffle-2-2026-05-15/
LOCATION:MN
CATEGORIES:Community,Entertainment,Fundraiser
END:VEVENT
BEGIN:VEVENT
DTSTART;TZID=America/New_York:20260516T180000
DTEND;TZID=America/New_York:20260516T200000
DTSTAMP:20260419T091708
CREATED:20230207T151256Z
LAST-MODIFIED:20230207T151256Z
UID:5344-1778954400-1778961600@baudettelakeofthewoodschamber.com
SUMMARY:Moose Lodge Meat Raffle
DESCRIPTION:
URL:https://baudettelakeofthewoodschamber.com/event/moose-lodge-meat-raffle-2-2026-05-16/
LOCATION:MN
CATEGORIES:Community,Entertainment,Fundraiser
END:VEVENT
BEGIN:VEVENT
DTSTART;TZID=America/New_York:20260522T173000
DTEND;TZID=America/New_York:20260522T190000
DTSTAMP:20260419T091708
CREATED:20230207T151207Z
LAST-MODIFIED:20230207T151207Z
UID:5345-1779471000-1779476400@baudettelakeofthewoodschamber.com
SUMMARY:American Legion Meat Raffle
DESCRIPTION:
URL:https://baudettelakeofthewoodschamber.com/event/american-legion-meat-raffle-2-2026-05-22/
LOCATION:MN
CATEGORIES:Community,Entertainment,Fundraiser
END:VEVENT
BEGIN:VEVENT
DTSTART;TZID=America/New_York:20260523T180000
DTEND;TZID=America/New_York:20260523T200000
DTSTAMP:20260419T091708
CREATED:20230207T151256Z
LAST-MODIFIED:20230207T151256Z
UID:5346-1779559200-1779566400@baudettelakeofthewoodschamber.com
SUMMARY:Moose Lodge Meat Raffle
DESCRIPTION:
URL:https://baudettelakeofthewoodschamber.com/event/moose-lodge-meat-raffle-2-2026-05-23/
LOCATION:MN
CATEGORIES:Community,Entertainment,Fundraiser
END:VEVENT
BEGIN:VEVENT
DTSTART;TZID=America/New_York:20260529T173000
DTEND;TZID=America/New_York:20260529T190000
DTSTAMP:20260419T091708
CREATED:20230207T151207Z
LAST-MODIFIED:20230207T151207Z
UID:5347-1780075800-1780081200@baudettelakeofthewoodschamber.com
SUMMARY:American Legion Meat Raffle
DESCRIPTION:
URL:https://baudettelakeofthewoodschamber.com/event/american-legion-meat-raffle-2-2026-05-29/
LOCATION:MN
CATEGORIES:Community,Entertainment,Fundraiser
END:VEVENT
BEGIN:VEVENT
DTSTART;TZID=America/New_York:20260530T180000
DTEND;TZID=America/New_York:20260530T200000
DTSTAMP:20260419T091708
CREATED:20230207T151256Z
LAST-MODIFIED:20230207T151256Z
UID:5348-1780164000-1780171200@baudettelakeofthewoodschamber.com
SUMMARY:Moose Lodge Meat Raffle
DESCRIPTION:
URL:https://baudettelakeofthewoodschamber.com/event/moose-lodge-meat-raffle-2-2026-05-30/
LOCATION:MN
CATEGORIES:Community,Entertainment,Fundraiser
END:VEVENT
BEGIN:VEVENT
DTSTART;TZID=America/New_York:20260604T170000
DTEND;TZID=America/New_York:20260604T190000
DTSTAMP:20260419T091709
CREATED:20221229T184558Z
LAST-MODIFIED:20221229T184558Z
UID:5349-1780592400-1780599600@baudettelakeofthewoodschamber.com
SUMMARY:Ruby's Pantry Distribution
DESCRIPTION:$25 a share\, no income requirement! \n  \nLake of the Woods School Bus Garage
URL:https://baudettelakeofthewoodschamber.com/event/rubys-pantry-distribution-2-2026-06-04/
LOCATION:Lake of the Woods School\, 210 3rd Ave NE\, Baudette\, MN\, 56623\, United States
CATEGORIES:Community
END:VEVENT
BEGIN:VEVENT
DTSTART;TZID=America/New_York:20260605T173000
DTEND;TZID=America/New_York:20260605T190000
DTSTAMP:20260419T091709
CREATED:20230207T151207Z
LAST-MODIFIED:20230207T151207Z
UID:5350-1780680600-1780686000@baudettelakeofthewoodschamber.com
SUMMARY:American Legion Meat Raffle
DESCRIPTION:
URL:https://baudettelakeofthewoodschamber.com/event/american-legion-meat-raffle-2-2026-06-05/
LOCATION:MN
CATEGORIES:Community,Entertainment,Fundraiser
END:VEVENT
BEGIN:VEVENT
DTSTART;TZID=America/New_York:20260606T180000
DTEND;TZID=America/New_York:20260606T200000
DTSTAMP:20260419T091709
CREATED:20230207T151256Z
LAST-MODIFIED:20230207T151256Z
UID:5354-1780768800-1780776000@baudettelakeofthewoodschamber.com
SUMMARY:Moose Lodge Meat Raffle
DESCRIPTION:
URL:https://baudettelakeofthewoodschamber.com/event/moose-lodge-meat-raffle-2-2026-06-06/
LOCATION:MN
CATEGORIES:Community,Entertainment,Fundraiser
END:VEVENT
BEGIN:VEVENT
DTSTART;TZID=America/New_York:20260612T173000
DTEND;TZID=America/New_York:20260612T190000
DTSTAMP:20260419T091709
CREATED:20230207T151207Z
LAST-MODIFIED:20230207T151207Z
UID:5355-1781285400-1781290800@baudettelakeofthewoodschamber.com
SUMMARY:American Legion Meat Raffle
DESCRIPTION:
URL:https://baudettelakeofthewoodschamber.com/event/american-legion-meat-raffle-2-2026-06-12/
LOCATION:MN
CATEGORIES:Community,Entertainment,Fundraiser
END:VEVENT
END:VCALENDAR