BEGIN:VCALENDAR
VERSION:2.0
PRODID:-//Baudette Chamber of Commerce - ECPv6.15.18//NONSGML v1.0//EN
CALSCALE:GREGORIAN
METHOD:PUBLISH
X-WR-CALNAME:Baudette Chamber of Commerce
X-ORIGINAL-URL:https://baudettelakeofthewoodschamber.com
X-WR-CALDESC:Events for Baudette Chamber of Commerce
REFRESH-INTERVAL;VALUE=DURATION:PT1H
X-Robots-Tag:noindex
X-PUBLISHED-TTL:PT1H
BEGIN:VTIMEZONE
TZID:America/New_York
BEGIN:DAYLIGHT
TZOFFSETFROM:-0500
TZOFFSETTO:-0400
TZNAME:EDT
DTSTART:20240310T070000
END:DAYLIGHT
BEGIN:STANDARD
TZOFFSETFROM:-0400
TZOFFSETTO:-0500
TZNAME:EST
DTSTART:20241103T060000
END:STANDARD
BEGIN:DAYLIGHT
TZOFFSETFROM:-0500
TZOFFSETTO:-0400
TZNAME:EDT
DTSTART:20250309T070000
END:DAYLIGHT
BEGIN:STANDARD
TZOFFSETFROM:-0400
TZOFFSETTO:-0500
TZNAME:EST
DTSTART:20251102T060000
END:STANDARD
BEGIN:DAYLIGHT
TZOFFSETFROM:-0500
TZOFFSETTO:-0400
TZNAME:EDT
DTSTART:20260308T070000
END:DAYLIGHT
BEGIN:STANDARD
TZOFFSETFROM:-0400
TZOFFSETTO:-0500
TZNAME:EST
DTSTART:20261101T060000
END:STANDARD
BEGIN:DAYLIGHT
TZOFFSETFROM:-0500
TZOFFSETTO:-0400
TZNAME:EDT
DTSTART:20270314T070000
END:DAYLIGHT
BEGIN:STANDARD
TZOFFSETFROM:-0400
TZOFFSETTO:-0500
TZNAME:EST
DTSTART:20271107T060000
END:STANDARD
END:VTIMEZONE
BEGIN:VEVENT
DTSTART;TZID=America/New_York:20260313T173000
DTEND;TZID=America/New_York:20260313T190000
DTSTAMP:20260423T061633
CREATED:20230207T151207Z
LAST-MODIFIED:20230207T151207Z
UID:5319-1773423000-1773428400@baudettelakeofthewoodschamber.com
SUMMARY:American Legion Meat Raffle
DESCRIPTION:
URL:https://baudettelakeofthewoodschamber.com/event/american-legion-meat-raffle-2-2026-03-13/
LOCATION:MN
CATEGORIES:Community,Entertainment,Fundraiser
END:VEVENT
BEGIN:VEVENT
DTSTART;TZID=America/New_York:20260307T180000
DTEND;TZID=America/New_York:20260307T200000
DTSTAMP:20260423T061633
CREATED:20230207T151256Z
LAST-MODIFIED:20230207T151256Z
UID:5317-1772906400-1772913600@baudettelakeofthewoodschamber.com
SUMMARY:Moose Lodge Meat Raffle
DESCRIPTION:
URL:https://baudettelakeofthewoodschamber.com/event/moose-lodge-meat-raffle-2-2026-03-07/
LOCATION:MN
CATEGORIES:Community,Entertainment,Fundraiser
END:VEVENT
BEGIN:VEVENT
DTSTART;TZID=America/New_York:20260306T173000
DTEND;TZID=America/New_York:20260306T190000
DTSTAMP:20260423T061633
CREATED:20230207T151207Z
LAST-MODIFIED:20230207T151207Z
UID:5316-1772818200-1772823600@baudettelakeofthewoodschamber.com
SUMMARY:American Legion Meat Raffle
DESCRIPTION:
URL:https://baudettelakeofthewoodschamber.com/event/american-legion-meat-raffle-2-2026-03-06/
LOCATION:MN
CATEGORIES:Community,Entertainment,Fundraiser
END:VEVENT
BEGIN:VEVENT
DTSTART;TZID=America/New_York:20260305T170000
DTEND;TZID=America/New_York:20260305T190000
DTSTAMP:20260423T061633
CREATED:20221229T184558Z
LAST-MODIFIED:20221229T184558Z
UID:5315-1772730000-1772737200@baudettelakeofthewoodschamber.com
SUMMARY:Ruby's Pantry Distribution
DESCRIPTION:$25 a share\, no income requirement! \n  \nLake of the Woods School Bus Garage
URL:https://baudettelakeofthewoodschamber.com/event/rubys-pantry-distribution-2-2026-03-05/
LOCATION:Lake of the Woods School\, 210 3rd Ave NE\, Baudette\, MN\, 56623\, United States
CATEGORIES:Community
END:VEVENT
BEGIN:VEVENT
DTSTART;TZID=America/New_York:20260228T180000
DTEND;TZID=America/New_York:20260228T200000
DTSTAMP:20260423T061633
CREATED:20230207T151256Z
LAST-MODIFIED:20230207T151256Z
UID:5314-1772301600-1772308800@baudettelakeofthewoodschamber.com
SUMMARY:Moose Lodge Meat Raffle
DESCRIPTION:
URL:https://baudettelakeofthewoodschamber.com/event/moose-lodge-meat-raffle-2-2026-02-28/
LOCATION:MN
CATEGORIES:Community,Entertainment,Fundraiser
END:VEVENT
BEGIN:VEVENT
DTSTART;TZID=America/New_York:20260227T173000
DTEND;TZID=America/New_York:20260227T190000
DTSTAMP:20260423T061633
CREATED:20230207T151207Z
LAST-MODIFIED:20230207T151207Z
UID:5313-1772213400-1772218800@baudettelakeofthewoodschamber.com
SUMMARY:American Legion Meat Raffle
DESCRIPTION:
URL:https://baudettelakeofthewoodschamber.com/event/american-legion-meat-raffle-2-2026-02-27/
LOCATION:MN
CATEGORIES:Community,Entertainment,Fundraiser
END:VEVENT
BEGIN:VEVENT
DTSTART;TZID=America/New_York:20260221T180000
DTEND;TZID=America/New_York:20260221T200000
DTSTAMP:20260423T061633
CREATED:20230207T151256Z
LAST-MODIFIED:20230207T151256Z
UID:5312-1771696800-1771704000@baudettelakeofthewoodschamber.com
SUMMARY:Moose Lodge Meat Raffle
DESCRIPTION:
URL:https://baudettelakeofthewoodschamber.com/event/moose-lodge-meat-raffle-2-2026-02-21/
LOCATION:MN
CATEGORIES:Community,Entertainment,Fundraiser
END:VEVENT
BEGIN:VEVENT
DTSTART;TZID=America/New_York:20260220T173000
DTEND;TZID=America/New_York:20260220T190000
DTSTAMP:20260423T061633
CREATED:20230207T151207Z
LAST-MODIFIED:20230207T151207Z
UID:5311-1771608600-1771614000@baudettelakeofthewoodschamber.com
SUMMARY:American Legion Meat Raffle
DESCRIPTION:
URL:https://baudettelakeofthewoodschamber.com/event/american-legion-meat-raffle-2-2026-02-20/
LOCATION:MN
CATEGORIES:Community,Entertainment,Fundraiser
END:VEVENT
BEGIN:VEVENT
DTSTART;TZID=America/New_York:20260214T180000
DTEND;TZID=America/New_York:20260214T200000
DTSTAMP:20260423T061633
CREATED:20230207T151256Z
LAST-MODIFIED:20230207T151256Z
UID:5309-1771092000-1771099200@baudettelakeofthewoodschamber.com
SUMMARY:Moose Lodge Meat Raffle
DESCRIPTION:
URL:https://baudettelakeofthewoodschamber.com/event/moose-lodge-meat-raffle-2-2026-02-14/
LOCATION:MN
CATEGORIES:Community,Entertainment,Fundraiser
END:VEVENT
BEGIN:VEVENT
DTSTART;TZID=America/New_York:20260213T173000
DTEND;TZID=America/New_York:20260213T190000
DTSTAMP:20260423T061633
CREATED:20230207T151207Z
LAST-MODIFIED:20230207T151207Z
UID:5308-1771003800-1771009200@baudettelakeofthewoodschamber.com
SUMMARY:American Legion Meat Raffle
DESCRIPTION:
URL:https://baudettelakeofthewoodschamber.com/event/american-legion-meat-raffle-2-2026-02-13/
LOCATION:MN
CATEGORIES:Community,Entertainment,Fundraiser
END:VEVENT
BEGIN:VEVENT
DTSTART;TZID=America/New_York:20260207T180000
DTEND;TZID=America/New_York:20260207T200000
DTSTAMP:20260423T061633
CREATED:20230207T151256Z
LAST-MODIFIED:20230207T151256Z
UID:5307-1770487200-1770494400@baudettelakeofthewoodschamber.com
SUMMARY:Moose Lodge Meat Raffle
DESCRIPTION:
URL:https://baudettelakeofthewoodschamber.com/event/moose-lodge-meat-raffle-2-2026-02-07/
LOCATION:MN
CATEGORIES:Community,Entertainment,Fundraiser
END:VEVENT
BEGIN:VEVENT
DTSTART;TZID=America/New_York:20260206T173000
DTEND;TZID=America/New_York:20260206T190000
DTSTAMP:20260423T061633
CREATED:20230207T151207Z
LAST-MODIFIED:20230207T151207Z
UID:5306-1770399000-1770404400@baudettelakeofthewoodschamber.com
SUMMARY:American Legion Meat Raffle
DESCRIPTION:
URL:https://baudettelakeofthewoodschamber.com/event/american-legion-meat-raffle-2-2026-02-06/
LOCATION:MN
CATEGORIES:Community,Entertainment,Fundraiser
END:VEVENT
BEGIN:VEVENT
DTSTART;TZID=America/New_York:20260205T170000
DTEND;TZID=America/New_York:20260205T190000
DTSTAMP:20260423T061633
CREATED:20221229T184558Z
LAST-MODIFIED:20221229T184558Z
UID:5305-1770310800-1770318000@baudettelakeofthewoodschamber.com
SUMMARY:Ruby's Pantry Distribution
DESCRIPTION:$25 a share\, no income requirement! \n  \nLake of the Woods School Bus Garage
URL:https://baudettelakeofthewoodschamber.com/event/rubys-pantry-distribution-2-2026-02-05/
LOCATION:Lake of the Woods School\, 210 3rd Ave NE\, Baudette\, MN\, 56623\, United States
CATEGORIES:Community
END:VEVENT
BEGIN:VEVENT
DTSTART;TZID=America/New_York:20260131T180000
DTEND;TZID=America/New_York:20260131T200000
DTSTAMP:20260423T061633
CREATED:20230207T151256Z
LAST-MODIFIED:20230207T151256Z
UID:5304-1769882400-1769889600@baudettelakeofthewoodschamber.com
SUMMARY:Moose Lodge Meat Raffle
DESCRIPTION:
URL:https://baudettelakeofthewoodschamber.com/event/moose-lodge-meat-raffle-2-2026-01-31/
LOCATION:MN
CATEGORIES:Community,Entertainment,Fundraiser
END:VEVENT
BEGIN:VEVENT
DTSTART;TZID=America/New_York:20260130T173000
DTEND;TZID=America/New_York:20260130T190000
DTSTAMP:20260423T061633
CREATED:20230207T151207Z
LAST-MODIFIED:20230207T151207Z
UID:5303-1769794200-1769799600@baudettelakeofthewoodschamber.com
SUMMARY:American Legion Meat Raffle
DESCRIPTION:
URL:https://baudettelakeofthewoodschamber.com/event/american-legion-meat-raffle-2-2026-01-30/
LOCATION:MN
CATEGORIES:Community,Entertainment,Fundraiser
END:VEVENT
BEGIN:VEVENT
DTSTART;TZID=America/New_York:20260124T180000
DTEND;TZID=America/New_York:20260124T200000
DTSTAMP:20260423T061633
CREATED:20230207T151256Z
LAST-MODIFIED:20230207T151256Z
UID:5301-1769277600-1769284800@baudettelakeofthewoodschamber.com
SUMMARY:Moose Lodge Meat Raffle
DESCRIPTION:
URL:https://baudettelakeofthewoodschamber.com/event/moose-lodge-meat-raffle-2-2026-01-24/
LOCATION:MN
CATEGORIES:Community,Entertainment,Fundraiser
END:VEVENT
BEGIN:VEVENT
DTSTART;TZID=America/New_York:20260123T173000
DTEND;TZID=America/New_York:20260123T190000
DTSTAMP:20260423T061633
CREATED:20230207T151207Z
LAST-MODIFIED:20230207T151207Z
UID:5300-1769189400-1769194800@baudettelakeofthewoodschamber.com
SUMMARY:American Legion Meat Raffle
DESCRIPTION:
URL:https://baudettelakeofthewoodschamber.com/event/american-legion-meat-raffle-2-2026-01-23/
LOCATION:MN
CATEGORIES:Community,Entertainment,Fundraiser
END:VEVENT
BEGIN:VEVENT
DTSTART;TZID=America/New_York:20260117T180000
DTEND;TZID=America/New_York:20260117T200000
DTSTAMP:20260423T061633
CREATED:20230207T151256Z
LAST-MODIFIED:20230207T151256Z
UID:5298-1768672800-1768680000@baudettelakeofthewoodschamber.com
SUMMARY:Moose Lodge Meat Raffle
DESCRIPTION:
URL:https://baudettelakeofthewoodschamber.com/event/moose-lodge-meat-raffle-2-2026-01-17/
LOCATION:MN
CATEGORIES:Community,Entertainment,Fundraiser
END:VEVENT
BEGIN:VEVENT
DTSTART;TZID=America/New_York:20260116T173000
DTEND;TZID=America/New_York:20260116T190000
DTSTAMP:20260423T061633
CREATED:20230207T151207Z
LAST-MODIFIED:20230207T151207Z
UID:5297-1768584600-1768590000@baudettelakeofthewoodschamber.com
SUMMARY:American Legion Meat Raffle
DESCRIPTION:
URL:https://baudettelakeofthewoodschamber.com/event/american-legion-meat-raffle-2-2026-01-16/
LOCATION:MN
CATEGORIES:Community,Entertainment,Fundraiser
END:VEVENT
BEGIN:VEVENT
DTSTART;TZID=America/New_York:20260110T180000
DTEND;TZID=America/New_York:20260110T200000
DTSTAMP:20260423T061633
CREATED:20230207T151256Z
LAST-MODIFIED:20230207T151256Z
UID:5296-1768068000-1768075200@baudettelakeofthewoodschamber.com
SUMMARY:Moose Lodge Meat Raffle
DESCRIPTION:
URL:https://baudettelakeofthewoodschamber.com/event/moose-lodge-meat-raffle-2-2026-01-10/
LOCATION:MN
CATEGORIES:Community,Entertainment,Fundraiser
END:VEVENT
BEGIN:VEVENT
DTSTART;TZID=America/New_York:20260109T173000
DTEND;TZID=America/New_York:20260109T190000
DTSTAMP:20260423T061633
CREATED:20230207T151207Z
LAST-MODIFIED:20230207T151207Z
UID:5295-1767979800-1767985200@baudettelakeofthewoodschamber.com
SUMMARY:American Legion Meat Raffle
DESCRIPTION:
URL:https://baudettelakeofthewoodschamber.com/event/american-legion-meat-raffle-2-2026-01-09/
LOCATION:MN
CATEGORIES:Community,Entertainment,Fundraiser
END:VEVENT
BEGIN:VEVENT
DTSTART;TZID=America/New_York:20260103T180000
DTEND;TZID=America/New_York:20260103T200000
DTSTAMP:20260423T061633
CREATED:20230207T151256Z
LAST-MODIFIED:20230207T151256Z
UID:5294-1767463200-1767470400@baudettelakeofthewoodschamber.com
SUMMARY:Moose Lodge Meat Raffle
DESCRIPTION:
URL:https://baudettelakeofthewoodschamber.com/event/moose-lodge-meat-raffle-2-2026-01-03/
LOCATION:MN
CATEGORIES:Community,Entertainment,Fundraiser
END:VEVENT
BEGIN:VEVENT
DTSTART;TZID=America/New_York:20260102T173000
DTEND;TZID=America/New_York:20260102T190000
DTSTAMP:20260423T061633
CREATED:20230207T151207Z
LAST-MODIFIED:20230207T151207Z
UID:5293-1767375000-1767380400@baudettelakeofthewoodschamber.com
SUMMARY:American Legion Meat Raffle
DESCRIPTION:
URL:https://baudettelakeofthewoodschamber.com/event/american-legion-meat-raffle-2-2026-01-02/
LOCATION:MN
CATEGORIES:Community,Entertainment,Fundraiser
END:VEVENT
BEGIN:VEVENT
DTSTART;TZID=America/New_York:20260101T170000
DTEND;TZID=America/New_York:20260101T190000
DTSTAMP:20260423T061633
CREATED:20221229T184558Z
LAST-MODIFIED:20221229T184558Z
UID:5292-1767286800-1767294000@baudettelakeofthewoodschamber.com
SUMMARY:Ruby's Pantry Distribution
DESCRIPTION:$25 a share\, no income requirement! \n  \nLake of the Woods School Bus Garage
URL:https://baudettelakeofthewoodschamber.com/event/rubys-pantry-distribution-2-2026-01-01/
LOCATION:Lake of the Woods School\, 210 3rd Ave NE\, Baudette\, MN\, 56623\, United States
CATEGORIES:Community
END:VEVENT
BEGIN:VEVENT
DTSTART;TZID=America/New_York:20251227T180000
DTEND;TZID=America/New_York:20251227T200000
DTSTAMP:20260423T061633
CREATED:20230207T151256Z
LAST-MODIFIED:20230207T151256Z
UID:5291-1766858400-1766865600@baudettelakeofthewoodschamber.com
SUMMARY:Moose Lodge Meat Raffle
DESCRIPTION:
URL:https://baudettelakeofthewoodschamber.com/event/moose-lodge-meat-raffle-2-2025-12-27/
LOCATION:MN
CATEGORIES:Community,Entertainment,Fundraiser
END:VEVENT
BEGIN:VEVENT
DTSTART;TZID=America/New_York:20251226T173000
DTEND;TZID=America/New_York:20251226T190000
DTSTAMP:20260423T061633
CREATED:20230207T151207Z
LAST-MODIFIED:20230207T151207Z
UID:5290-1766770200-1766775600@baudettelakeofthewoodschamber.com
SUMMARY:American Legion Meat Raffle
DESCRIPTION:
URL:https://baudettelakeofthewoodschamber.com/event/american-legion-meat-raffle-2-2025-12-26/
LOCATION:MN
CATEGORIES:Community,Entertainment,Fundraiser
END:VEVENT
BEGIN:VEVENT
DTSTART;TZID=America/New_York:20251220T180000
DTEND;TZID=America/New_York:20251220T200000
DTSTAMP:20260423T061633
CREATED:20230207T151256Z
LAST-MODIFIED:20230207T151256Z
UID:5289-1766253600-1766260800@baudettelakeofthewoodschamber.com
SUMMARY:Moose Lodge Meat Raffle
DESCRIPTION:
URL:https://baudettelakeofthewoodschamber.com/event/moose-lodge-meat-raffle-2-2025-12-20/
LOCATION:MN
CATEGORIES:Community,Entertainment,Fundraiser
END:VEVENT
BEGIN:VEVENT
DTSTART;TZID=America/New_York:20251219T173000
DTEND;TZID=America/New_York:20251219T190000
DTSTAMP:20260423T061633
CREATED:20230207T151207Z
LAST-MODIFIED:20230207T151207Z
UID:5288-1766165400-1766170800@baudettelakeofthewoodschamber.com
SUMMARY:American Legion Meat Raffle
DESCRIPTION:
URL:https://baudettelakeofthewoodschamber.com/event/american-legion-meat-raffle-2-2025-12-19/
LOCATION:MN
CATEGORIES:Community,Entertainment,Fundraiser
END:VEVENT
BEGIN:VEVENT
DTSTART;TZID=America/New_York:20251213T180000
DTEND;TZID=America/New_York:20251213T200000
DTSTAMP:20260423T061633
CREATED:20230207T151256Z
LAST-MODIFIED:20230207T151256Z
UID:5287-1765648800-1765656000@baudettelakeofthewoodschamber.com
SUMMARY:Moose Lodge Meat Raffle
DESCRIPTION:
URL:https://baudettelakeofthewoodschamber.com/event/moose-lodge-meat-raffle-2-2025-12-13/
LOCATION:MN
CATEGORIES:Community,Entertainment,Fundraiser
END:VEVENT
BEGIN:VEVENT
DTSTART;TZID=America/New_York:20251212T173000
DTEND;TZID=America/New_York:20251212T190000
DTSTAMP:20260423T061633
CREATED:20230207T151207Z
LAST-MODIFIED:20230207T151207Z
UID:5286-1765560600-1765566000@baudettelakeofthewoodschamber.com
SUMMARY:American Legion Meat Raffle
DESCRIPTION:
URL:https://baudettelakeofthewoodschamber.com/event/american-legion-meat-raffle-2-2025-12-12/
LOCATION:MN
CATEGORIES:Community,Entertainment,Fundraiser
END:VEVENT
END:VCALENDAR