BEGIN:VCALENDAR
VERSION:2.0
PRODID:-//Baudette Chamber of Commerce - ECPv6.15.18//NONSGML v1.0//EN
CALSCALE:GREGORIAN
METHOD:PUBLISH
X-WR-CALNAME:Baudette Chamber of Commerce
X-ORIGINAL-URL:https://baudettelakeofthewoodschamber.com
X-WR-CALDESC:Events for Baudette Chamber of Commerce
REFRESH-INTERVAL;VALUE=DURATION:PT1H
X-Robots-Tag:noindex
X-PUBLISHED-TTL:PT1H
BEGIN:VTIMEZONE
TZID:America/New_York
BEGIN:DAYLIGHT
TZOFFSETFROM:-0500
TZOFFSETTO:-0400
TZNAME:EDT
DTSTART:20250309T070000
END:DAYLIGHT
BEGIN:STANDARD
TZOFFSETFROM:-0400
TZOFFSETTO:-0500
TZNAME:EST
DTSTART:20251102T060000
END:STANDARD
BEGIN:DAYLIGHT
TZOFFSETFROM:-0500
TZOFFSETTO:-0400
TZNAME:EDT
DTSTART:20260308T070000
END:DAYLIGHT
BEGIN:STANDARD
TZOFFSETFROM:-0400
TZOFFSETTO:-0500
TZNAME:EST
DTSTART:20261101T060000
END:STANDARD
BEGIN:DAYLIGHT
TZOFFSETFROM:-0500
TZOFFSETTO:-0400
TZNAME:EDT
DTSTART:20270314T070000
END:DAYLIGHT
BEGIN:STANDARD
TZOFFSETFROM:-0400
TZOFFSETTO:-0500
TZNAME:EST
DTSTART:20271107T060000
END:STANDARD
END:VTIMEZONE
BEGIN:VEVENT
DTSTART;TZID=America/New_York:20260523T180000
DTEND;TZID=America/New_York:20260523T200000
DTSTAMP:20260421T180510
CREATED:20230207T151256Z
LAST-MODIFIED:20230207T151256Z
UID:5346-1779559200-1779566400@baudettelakeofthewoodschamber.com
SUMMARY:Moose Lodge Meat Raffle
DESCRIPTION:
URL:https://baudettelakeofthewoodschamber.com/event/moose-lodge-meat-raffle-2-2026-05-23/
LOCATION:MN
CATEGORIES:Community,Entertainment,Fundraiser
END:VEVENT
BEGIN:VEVENT
DTSTART;TZID=America/New_York:20260529T173000
DTEND;TZID=America/New_York:20260529T190000
DTSTAMP:20260421T180510
CREATED:20230207T151207Z
LAST-MODIFIED:20230207T151207Z
UID:5347-1780075800-1780081200@baudettelakeofthewoodschamber.com
SUMMARY:American Legion Meat Raffle
DESCRIPTION:
URL:https://baudettelakeofthewoodschamber.com/event/american-legion-meat-raffle-2-2026-05-29/
LOCATION:MN
CATEGORIES:Community,Entertainment,Fundraiser
END:VEVENT
BEGIN:VEVENT
DTSTART;TZID=America/New_York:20260530T180000
DTEND;TZID=America/New_York:20260530T200000
DTSTAMP:20260421T180510
CREATED:20230207T151256Z
LAST-MODIFIED:20230207T151256Z
UID:5348-1780164000-1780171200@baudettelakeofthewoodschamber.com
SUMMARY:Moose Lodge Meat Raffle
DESCRIPTION:
URL:https://baudettelakeofthewoodschamber.com/event/moose-lodge-meat-raffle-2-2026-05-30/
LOCATION:MN
CATEGORIES:Community,Entertainment,Fundraiser
END:VEVENT
BEGIN:VEVENT
DTSTART;TZID=America/New_York:20260604T170000
DTEND;TZID=America/New_York:20260604T190000
DTSTAMP:20260421T180510
CREATED:20221229T184558Z
LAST-MODIFIED:20221229T184558Z
UID:5349-1780592400-1780599600@baudettelakeofthewoodschamber.com
SUMMARY:Ruby's Pantry Distribution
DESCRIPTION:$25 a share\, no income requirement! \n  \nLake of the Woods School Bus Garage
URL:https://baudettelakeofthewoodschamber.com/event/rubys-pantry-distribution-2-2026-06-04/
LOCATION:Lake of the Woods School\, 210 3rd Ave NE\, Baudette\, MN\, 56623\, United States
CATEGORIES:Community
END:VEVENT
BEGIN:VEVENT
DTSTART;TZID=America/New_York:20260605T173000
DTEND;TZID=America/New_York:20260605T190000
DTSTAMP:20260421T180510
CREATED:20230207T151207Z
LAST-MODIFIED:20230207T151207Z
UID:5350-1780680600-1780686000@baudettelakeofthewoodschamber.com
SUMMARY:American Legion Meat Raffle
DESCRIPTION:
URL:https://baudettelakeofthewoodschamber.com/event/american-legion-meat-raffle-2-2026-06-05/
LOCATION:MN
CATEGORIES:Community,Entertainment,Fundraiser
END:VEVENT
BEGIN:VEVENT
DTSTART;TZID=America/New_York:20260606T180000
DTEND;TZID=America/New_York:20260606T200000
DTSTAMP:20260421T180510
CREATED:20230207T151256Z
LAST-MODIFIED:20230207T151256Z
UID:5354-1780768800-1780776000@baudettelakeofthewoodschamber.com
SUMMARY:Moose Lodge Meat Raffle
DESCRIPTION:
URL:https://baudettelakeofthewoodschamber.com/event/moose-lodge-meat-raffle-2-2026-06-06/
LOCATION:MN
CATEGORIES:Community,Entertainment,Fundraiser
END:VEVENT
BEGIN:VEVENT
DTSTART;TZID=America/New_York:20260612T173000
DTEND;TZID=America/New_York:20260612T190000
DTSTAMP:20260421T180510
CREATED:20230207T151207Z
LAST-MODIFIED:20230207T151207Z
UID:5355-1781285400-1781290800@baudettelakeofthewoodschamber.com
SUMMARY:American Legion Meat Raffle
DESCRIPTION:
URL:https://baudettelakeofthewoodschamber.com/event/american-legion-meat-raffle-2-2026-06-12/
LOCATION:MN
CATEGORIES:Community,Entertainment,Fundraiser
END:VEVENT
BEGIN:VEVENT
DTSTART;TZID=America/New_York:20260613T180000
DTEND;TZID=America/New_York:20260613T200000
DTSTAMP:20260421T180510
CREATED:20230207T151256Z
LAST-MODIFIED:20230207T151256Z
UID:5357-1781373600-1781380800@baudettelakeofthewoodschamber.com
SUMMARY:Moose Lodge Meat Raffle
DESCRIPTION:
URL:https://baudettelakeofthewoodschamber.com/event/moose-lodge-meat-raffle-2-2026-06-13/
LOCATION:MN
CATEGORIES:Community,Entertainment,Fundraiser
END:VEVENT
BEGIN:VEVENT
DTSTART;TZID=America/New_York:20260619T173000
DTEND;TZID=America/New_York:20260619T190000
DTSTAMP:20260421T180510
CREATED:20230207T151207Z
LAST-MODIFIED:20230207T151207Z
UID:5359-1781890200-1781895600@baudettelakeofthewoodschamber.com
SUMMARY:American Legion Meat Raffle
DESCRIPTION:
URL:https://baudettelakeofthewoodschamber.com/event/american-legion-meat-raffle-2-2026-06-19/
LOCATION:MN
CATEGORIES:Community,Entertainment,Fundraiser
END:VEVENT
BEGIN:VEVENT
DTSTART;TZID=America/New_York:20260620T180000
DTEND;TZID=America/New_York:20260620T200000
DTSTAMP:20260421T180510
CREATED:20230207T151256Z
LAST-MODIFIED:20230207T151256Z
UID:5360-1781978400-1781985600@baudettelakeofthewoodschamber.com
SUMMARY:Moose Lodge Meat Raffle
DESCRIPTION:
URL:https://baudettelakeofthewoodschamber.com/event/moose-lodge-meat-raffle-2-2026-06-20/
LOCATION:MN
CATEGORIES:Community,Entertainment,Fundraiser
END:VEVENT
BEGIN:VEVENT
DTSTART;TZID=America/New_York:20260626T173000
DTEND;TZID=America/New_York:20260626T190000
DTSTAMP:20260421T180510
CREATED:20230207T151207Z
LAST-MODIFIED:20230207T151207Z
UID:5364-1782495000-1782500400@baudettelakeofthewoodschamber.com
SUMMARY:American Legion Meat Raffle
DESCRIPTION:
URL:https://baudettelakeofthewoodschamber.com/event/american-legion-meat-raffle-2-2026-06-26/
LOCATION:MN
CATEGORIES:Community,Entertainment,Fundraiser
END:VEVENT
BEGIN:VEVENT
DTSTART;TZID=America/New_York:20260627T180000
DTEND;TZID=America/New_York:20260627T200000
DTSTAMP:20260421T180510
CREATED:20230207T151256Z
LAST-MODIFIED:20230207T151256Z
UID:5365-1782583200-1782590400@baudettelakeofthewoodschamber.com
SUMMARY:Moose Lodge Meat Raffle
DESCRIPTION:
URL:https://baudettelakeofthewoodschamber.com/event/moose-lodge-meat-raffle-2-2026-06-27/
LOCATION:MN
CATEGORIES:Community,Entertainment,Fundraiser
END:VEVENT
BEGIN:VEVENT
DTSTART;TZID=America/New_York:20260702T170000
DTEND;TZID=America/New_York:20260702T190000
DTSTAMP:20260421T180510
CREATED:20221229T184558Z
LAST-MODIFIED:20221229T184558Z
UID:5366-1783011600-1783018800@baudettelakeofthewoodschamber.com
SUMMARY:Ruby's Pantry Distribution
DESCRIPTION:$25 a share\, no income requirement! \n  \nLake of the Woods School Bus Garage
URL:https://baudettelakeofthewoodschamber.com/event/rubys-pantry-distribution-2-2026-07-02/
LOCATION:Lake of the Woods School\, 210 3rd Ave NE\, Baudette\, MN\, 56623\, United States
CATEGORIES:Community
END:VEVENT
BEGIN:VEVENT
DTSTART;TZID=America/New_York:20260703T173000
DTEND;TZID=America/New_York:20260703T190000
DTSTAMP:20260421T180510
CREATED:20230207T151207Z
LAST-MODIFIED:20230207T151207Z
UID:5367-1783099800-1783105200@baudettelakeofthewoodschamber.com
SUMMARY:American Legion Meat Raffle
DESCRIPTION:
URL:https://baudettelakeofthewoodschamber.com/event/american-legion-meat-raffle-2-2026-07-03/
LOCATION:MN
CATEGORIES:Community,Entertainment,Fundraiser
END:VEVENT
BEGIN:VEVENT
DTSTART;TZID=America/New_York:20260704T180000
DTEND;TZID=America/New_York:20260704T200000
DTSTAMP:20260421T180510
CREATED:20230207T151256Z
LAST-MODIFIED:20230207T151256Z
UID:5368-1783188000-1783195200@baudettelakeofthewoodschamber.com
SUMMARY:Moose Lodge Meat Raffle
DESCRIPTION:
URL:https://baudettelakeofthewoodschamber.com/event/moose-lodge-meat-raffle-2-2026-07-04/
LOCATION:MN
CATEGORIES:Community,Entertainment,Fundraiser
END:VEVENT
BEGIN:VEVENT
DTSTART;TZID=America/New_York:20260710T173000
DTEND;TZID=America/New_York:20260710T190000
DTSTAMP:20260421T180510
CREATED:20230207T151207Z
LAST-MODIFIED:20230207T151207Z
UID:5370-1783704600-1783710000@baudettelakeofthewoodschamber.com
SUMMARY:American Legion Meat Raffle
DESCRIPTION:
URL:https://baudettelakeofthewoodschamber.com/event/american-legion-meat-raffle-2-2026-07-10/
LOCATION:MN
CATEGORIES:Community,Entertainment,Fundraiser
END:VEVENT
BEGIN:VEVENT
DTSTART;TZID=America/New_York:20260711T180000
DTEND;TZID=America/New_York:20260711T200000
DTSTAMP:20260421T180510
CREATED:20230207T151256Z
LAST-MODIFIED:20230207T151256Z
UID:5371-1783792800-1783800000@baudettelakeofthewoodschamber.com
SUMMARY:Moose Lodge Meat Raffle
DESCRIPTION:
URL:https://baudettelakeofthewoodschamber.com/event/moose-lodge-meat-raffle-2-2026-07-11/
LOCATION:MN
CATEGORIES:Community,Entertainment,Fundraiser
END:VEVENT
BEGIN:VEVENT
DTSTART;TZID=America/New_York:20260717T173000
DTEND;TZID=America/New_York:20260717T190000
DTSTAMP:20260421T180510
CREATED:20230207T151207Z
LAST-MODIFIED:20230207T151207Z
UID:5373-1784309400-1784314800@baudettelakeofthewoodschamber.com
SUMMARY:American Legion Meat Raffle
DESCRIPTION:
URL:https://baudettelakeofthewoodschamber.com/event/american-legion-meat-raffle-2-2026-07-17/
LOCATION:MN
CATEGORIES:Community,Entertainment,Fundraiser
END:VEVENT
BEGIN:VEVENT
DTSTART;TZID=America/New_York:20260718T180000
DTEND;TZID=America/New_York:20260718T200000
DTSTAMP:20260421T180510
CREATED:20230207T151256Z
LAST-MODIFIED:20230207T151256Z
UID:5374-1784397600-1784404800@baudettelakeofthewoodschamber.com
SUMMARY:Moose Lodge Meat Raffle
DESCRIPTION:
URL:https://baudettelakeofthewoodschamber.com/event/moose-lodge-meat-raffle-2-2026-07-18/
LOCATION:MN
CATEGORIES:Community,Entertainment,Fundraiser
END:VEVENT
BEGIN:VEVENT
DTSTART;TZID=America/New_York:20260724T173000
DTEND;TZID=America/New_York:20260724T190000
DTSTAMP:20260421T180510
CREATED:20230207T151207Z
LAST-MODIFIED:20230207T151207Z
UID:5375-1784914200-1784919600@baudettelakeofthewoodschamber.com
SUMMARY:American Legion Meat Raffle
DESCRIPTION:
URL:https://baudettelakeofthewoodschamber.com/event/american-legion-meat-raffle-2-2026-07-24/
LOCATION:MN
CATEGORIES:Community,Entertainment,Fundraiser
END:VEVENT
BEGIN:VEVENT
DTSTART;TZID=America/New_York:20260725T180000
DTEND;TZID=America/New_York:20260725T200000
DTSTAMP:20260421T180510
CREATED:20230207T151256Z
LAST-MODIFIED:20230207T151256Z
UID:5376-1785002400-1785009600@baudettelakeofthewoodschamber.com
SUMMARY:Moose Lodge Meat Raffle
DESCRIPTION:
URL:https://baudettelakeofthewoodschamber.com/event/moose-lodge-meat-raffle-2-2026-07-25/
LOCATION:MN
CATEGORIES:Community,Entertainment,Fundraiser
END:VEVENT
BEGIN:VEVENT
DTSTART;TZID=America/New_York:20260731T173000
DTEND;TZID=America/New_York:20260731T190000
DTSTAMP:20260421T180510
CREATED:20230207T151207Z
LAST-MODIFIED:20230207T151207Z
UID:5377-1785519000-1785524400@baudettelakeofthewoodschamber.com
SUMMARY:American Legion Meat Raffle
DESCRIPTION:
URL:https://baudettelakeofthewoodschamber.com/event/american-legion-meat-raffle-2-2026-07-31/
LOCATION:MN
CATEGORIES:Community,Entertainment,Fundraiser
END:VEVENT
BEGIN:VEVENT
DTSTART;TZID=America/New_York:20260801T180000
DTEND;TZID=America/New_York:20260801T200000
DTSTAMP:20260421T180510
CREATED:20230207T151256Z
LAST-MODIFIED:20230207T151256Z
UID:5378-1785607200-1785614400@baudettelakeofthewoodschamber.com
SUMMARY:Moose Lodge Meat Raffle
DESCRIPTION:
URL:https://baudettelakeofthewoodschamber.com/event/moose-lodge-meat-raffle-2-2026-08-01/
LOCATION:MN
CATEGORIES:Community,Entertainment,Fundraiser
END:VEVENT
BEGIN:VEVENT
DTSTART;TZID=America/New_York:20260806T170000
DTEND;TZID=America/New_York:20260806T190000
DTSTAMP:20260421T180510
CREATED:20221229T184558Z
LAST-MODIFIED:20221229T184558Z
UID:5379-1786035600-1786042800@baudettelakeofthewoodschamber.com
SUMMARY:Ruby's Pantry Distribution
DESCRIPTION:$25 a share\, no income requirement! \n  \nLake of the Woods School Bus Garage
URL:https://baudettelakeofthewoodschamber.com/event/rubys-pantry-distribution-2-2026-08-06/
LOCATION:Lake of the Woods School\, 210 3rd Ave NE\, Baudette\, MN\, 56623\, United States
CATEGORIES:Community
END:VEVENT
BEGIN:VEVENT
DTSTART;TZID=America/New_York:20260807T173000
DTEND;TZID=America/New_York:20260807T190000
DTSTAMP:20260421T180510
CREATED:20230207T151207Z
LAST-MODIFIED:20230207T151207Z
UID:5380-1786123800-1786129200@baudettelakeofthewoodschamber.com
SUMMARY:American Legion Meat Raffle
DESCRIPTION:
URL:https://baudettelakeofthewoodschamber.com/event/american-legion-meat-raffle-2-2026-08-07/
LOCATION:MN
CATEGORIES:Community,Entertainment,Fundraiser
END:VEVENT
BEGIN:VEVENT
DTSTART;TZID=America/New_York:20260808T180000
DTEND;TZID=America/New_York:20260808T200000
DTSTAMP:20260421T180510
CREATED:20230207T151256Z
LAST-MODIFIED:20230207T151256Z
UID:5382-1786212000-1786219200@baudettelakeofthewoodschamber.com
SUMMARY:Moose Lodge Meat Raffle
DESCRIPTION:
URL:https://baudettelakeofthewoodschamber.com/event/moose-lodge-meat-raffle-2-2026-08-08/
LOCATION:MN
CATEGORIES:Community,Entertainment,Fundraiser
END:VEVENT
BEGIN:VEVENT
DTSTART;TZID=America/New_York:20260814T173000
DTEND;TZID=America/New_York:20260814T190000
DTSTAMP:20260421T180510
CREATED:20230207T151207Z
LAST-MODIFIED:20230207T151207Z
UID:5383-1786728600-1786734000@baudettelakeofthewoodschamber.com
SUMMARY:American Legion Meat Raffle
DESCRIPTION:
URL:https://baudettelakeofthewoodschamber.com/event/american-legion-meat-raffle-2-2026-08-14/
LOCATION:MN
CATEGORIES:Community,Entertainment,Fundraiser
END:VEVENT
BEGIN:VEVENT
DTSTART;TZID=America/New_York:20260815T180000
DTEND;TZID=America/New_York:20260815T200000
DTSTAMP:20260421T180510
CREATED:20230207T151256Z
LAST-MODIFIED:20230207T151256Z
UID:5384-1786816800-1786824000@baudettelakeofthewoodschamber.com
SUMMARY:Moose Lodge Meat Raffle
DESCRIPTION:
URL:https://baudettelakeofthewoodschamber.com/event/moose-lodge-meat-raffle-2-2026-08-15/
LOCATION:MN
CATEGORIES:Community,Entertainment,Fundraiser
END:VEVENT
BEGIN:VEVENT
DTSTART;TZID=America/New_York:20260821T173000
DTEND;TZID=America/New_York:20260821T190000
DTSTAMP:20260421T180510
CREATED:20230207T151207Z
LAST-MODIFIED:20230207T151207Z
UID:5387-1787333400-1787338800@baudettelakeofthewoodschamber.com
SUMMARY:American Legion Meat Raffle
DESCRIPTION:
URL:https://baudettelakeofthewoodschamber.com/event/american-legion-meat-raffle-2-2026-08-21/
LOCATION:MN
CATEGORIES:Community,Entertainment,Fundraiser
END:VEVENT
BEGIN:VEVENT
DTSTART;TZID=America/New_York:20260822T180000
DTEND;TZID=America/New_York:20260822T200000
DTSTAMP:20260421T180510
CREATED:20230207T151256Z
LAST-MODIFIED:20230207T151256Z
UID:5388-1787421600-1787428800@baudettelakeofthewoodschamber.com
SUMMARY:Moose Lodge Meat Raffle
DESCRIPTION:
URL:https://baudettelakeofthewoodschamber.com/event/moose-lodge-meat-raffle-2-2026-08-22/
LOCATION:MN
CATEGORIES:Community,Entertainment,Fundraiser
END:VEVENT
END:VCALENDAR